BEGIN:VCALENDAR
VERSION:2.0
PRODID:-//イルチブレインヨガ八事スタジオ - ECPv6.15.20//NONSGML v1.0//EN
CALSCALE:GREGORIAN
METHOD:PUBLISH
X-WR-CALNAME:イルチブレインヨガ八事スタジオ
X-ORIGINAL-URL:https://ilchibrainyoga-yagoto.com
X-WR-CALDESC:イルチブレインヨガ八事スタジオ のイベント
REFRESH-INTERVAL;VALUE=DURATION:PT1H
X-Robots-Tag:noindex
X-PUBLISHED-TTL:PT1H
BEGIN:VTIMEZONE
TZID:Asia/Tokyo
BEGIN:STANDARD
TZOFFSETFROM:+0900
TZOFFSETTO:+0900
TZNAME:JST
DTSTART:20220101T000000
END:STANDARD
END:VTIMEZONE
BEGIN:VEVENT
DTSTART;TZID=Asia/Tokyo:20230114T143000
DTEND;TZID=Asia/Tokyo:20230114T163000
DTSTAMP:20260421T113744
CREATED:20230106T103328Z
LAST-MODIFIED:20230106T103328Z
UID:3393-1673706600-1673713800@ilchibrainyoga-yagoto.com
SUMMARY:オーラ&かくれみのお茶会🍵
DESCRIPTION:・最近疲れが取れない、リラックスができないそんなあなたにおすすめ!自分の体と心を見つめ直す時間を持ちませんか？ \n【内容】\nオーラ撮影（ストレスチェック）+セルフヒーリング（BHP）＋カクレミノ茶 \nオーラ撮影→今の健康のバランス、ストレス度がチェックできます。また、自分の出やすい色から特性なども判断できます。 \nセルフヒーリング→自分自身で自分を癒すヒーリング方法をお伝えします。とっても簡単あっと驚きの速効果がわかる！自分でもできるヒーリング法です。 \nカクレミノお茶→デトックス効果の高いカクレミノのお茶で体も心もスッキリします。 \n【日時】1月１４日（土）14:30-16:30\n【場所】イルチブレインヨガ八事スタジオ\n地下鉄名城線「八事日赤駅」より徒歩1分\n住所： 名古屋市昭和区山手通3-10グランウエスト山手2F \n【参加費】1500円\n【お問い合わせ】052-836-6567
URL:https://ilchibrainyoga-yagoto.com/event/%e3%82%aa%e3%83%bc%e3%83%a9%e3%81%8b%e3%81%8f%e3%82%8c%e3%81%bf%e3%81%ae%e3%81%8a%e8%8c%b6%e4%bc%9a%f0%9f%8d%b5/
END:VEVENT
BEGIN:VEVENT
DTSTART;TZID=Asia/Tokyo:20230321T140000
DTEND;TZID=Asia/Tokyo:20230321T170000
DTSTAMP:20260421T113744
CREATED:20230307T094027Z
LAST-MODIFIED:20230307T094027Z
UID:3415-1679407200-1679418000@ilchibrainyoga-yagoto.com
SUMMARY:癒しマルシェ
DESCRIPTION:癒しマルシェ\n3月 21日 ２:30 PM – 5:30 PM\nLOVE HEALS　上映会、オーラ撮影、チャクラバランス、陰陽五行、アロマハンドマッサージなどを行います。\nぜひご参加お待ちしています。 \nお問い合わせは\ntel.052-836-6567－10　グランウエスト山手2階
URL:https://ilchibrainyoga-yagoto.com/event/%e7%99%92%e3%81%97%e3%83%9e%e3%83%ab%e3%82%b7%e3%82%a7/
END:VEVENT
BEGIN:VEVENT
DTSTART;TZID=Asia/Tokyo:20230527T143000
DTEND;TZID=Asia/Tokyo:20230527T163000
DTSTAMP:20260421T113744
CREATED:20230523T024212Z
LAST-MODIFIED:20230523T024314Z
UID:3426-1685197800-1685205000@ilchibrainyoga-yagoto.com
SUMMARY:オーラ撮影＆診断（カクレミノお茶付）
DESCRIPTION:オーラ撮影（ストレスチェック）\nオーラ機でパーソナルカラーを撮影。今の健康、ストレスチェック致します。（体をあたためるカクレミノお茶つき） \n【日時】5月27日（土）14:30-16:30\n【場所】イルチブレインヨガ八事スタジオ\n地下鉄名城線「八事日赤駅」より徒歩1分\n住所： 名古屋市昭和区山手通3-10グランウエスト山手2F \n【参加費】500円\n【お問い合わせ】052-836-6567 \n  \n             
URL:https://ilchibrainyoga-yagoto.com/event/%e3%82%aa%e3%83%bc%e3%83%a9%e6%92%ae%e5%bd%b1%ef%bc%86%e8%a8%ba%e6%96%ad%ef%bc%88%e3%82%ab%e3%82%af%e3%83%ac%e3%83%9f%e3%83%8e%e3%81%8a%e8%8c%b6%e4%bb%98%ef%bc%89/
END:VEVENT
BEGIN:VEVENT
DTSTART;TZID=Asia/Tokyo:20230528T143000
DTEND;TZID=Asia/Tokyo:20230528T163000
DTSTAMP:20260421T113744
CREATED:20230523T051338Z
LAST-MODIFIED:20230523T051338Z
UID:3437-1685284200-1685291400@ilchibrainyoga-yagoto.com
SUMMARY:おへそボタンを押して体も心も元気に！
DESCRIPTION:おへそから始める健康法 \n現代人は腸がとても硬くなっています。 腸が硬いというのは、循環と排出がうまくいかず腸機能が弱まり、動きが鈍って滞り、これが続いて 固まった状態を指します。おへそを押すトレーニングで硬くなった腸をほぐすことによって全身の健康を高めます。体も心もあたたかくなりリラックスします。 \n【場所】イルチブレインヨガ八事スタジオ\n地下鉄名城線「八事日赤駅」より徒歩1分\n住所： 名古屋市昭和区山手通3-10グランウエスト山手2F \n【参加費】1000円（腸セラピーつき）\n【お問い合わせ】052-836-6567
URL:https://ilchibrainyoga-yagoto.com/event/%e3%81%8a%e3%81%b8%e3%81%9d%e3%83%9c%e3%82%bf%e3%83%b3%e3%82%92%e6%8a%bc%e3%81%97%e3%81%a6%e4%bd%93%e3%82%82%e5%bf%83%e3%82%82%e5%85%83%e6%b0%97%e3%81%ab%ef%bc%81/
END:VEVENT
BEGIN:VEVENT
DTSTART;TZID=Asia/Tokyo:20230904T193000
DTEND;TZID=Asia/Tokyo:20230904T210000
DTSTAMP:20260421T113744
CREATED:20230904T043150Z
LAST-MODIFIED:20230904T043150Z
UID:3498-1693855800-1693861200@ilchibrainyoga-yagoto.com
SUMMARY:気功体験会
DESCRIPTION:９/６（水)   19:30-21:00 \nどなたでも簡単にできる気功で気の流れを整え姿勢がよくなります。また呼吸が深くなる、集中力が高まるなどの効果があります。まだまだ暑い季節、ぜひこの機会にお試しください！ \n  \n参加費　1500円（ライン割引あり） \n動きやすい服装をご持参ください。 \n 
URL:https://ilchibrainyoga-yagoto.com/event/%e6%b0%97%e5%8a%9f%e4%bd%93%e9%a8%93%e4%bc%9a/
END:VEVENT
BEGIN:VEVENT
DTSTART;TZID=Asia/Tokyo:20230913T103000
DTEND;TZID=Asia/Tokyo:20230913T120000
DTSTAMP:20260421T113744
CREATED:20230904T041131Z
LAST-MODIFIED:20230904T041131Z
UID:3490-1694601000-1694606400@ilchibrainyoga-yagoto.com
SUMMARY:気功体験会
DESCRIPTION:9/13（水)   10:30-12:00 \nどなたでも簡単にできる気功で気の流れを整え姿勢がよくなります。また呼吸が深くなる、集中力が高まるなどの効果があります。まだまだ暑い季節、ぜひこの機会にお試しください！ \n  \n参加費　1500円（ライン割引あり） \n動きやすい服装をご持参ください。
URL:https://ilchibrainyoga-yagoto.com/event/%e6%b0%97%e5%8a%9f%e4%bd%93%e9%a8%93%e4%bc%9a-2/
END:VEVENT
BEGIN:VEVENT
DTSTART;TZID=Asia/Tokyo:20230920T193000
DTEND;TZID=Asia/Tokyo:20230920T210000
DTSTAMP:20260421T113744
CREATED:20230904T041716Z
LAST-MODIFIED:20230904T041716Z
UID:3493-1695238200-1695243600@ilchibrainyoga-yagoto.com
SUMMARY:気功体験会
DESCRIPTION:9/20（水)   1９30-21:00 \nどなたでも簡単にできる気功で気の流れを整え姿勢がよくなります。また呼吸が深くなる、集中力が高まるなどの効果があります。まだまだ暑い季節、ぜひこの機会にお試しください！ \n  \n参加費　1500円（ライン割引あり） \n動きやすい服装をご持参ください。
URL:https://ilchibrainyoga-yagoto.com/event/%e6%b0%97%e5%8a%9f%e4%bd%93%e9%a8%93%e4%bc%9a-3/
END:VEVENT
BEGIN:VEVENT
DTSTART;TZID=Asia/Tokyo:20230927T103000
DTEND;TZID=Asia/Tokyo:20230927T120000
DTSTAMP:20260421T113744
CREATED:20230904T042641Z
LAST-MODIFIED:20230904T043015Z
UID:3495-1695810600-1695816000@ilchibrainyoga-yagoto.com
SUMMARY:気功体験会
DESCRIPTION:９/2７（水)   10:30-12::00 \nどなたでも簡単にできる気功で気の流れを整え姿勢がよくなります。また呼吸が深くなる、集中力が高まるなどの効果があります。まだまだ暑い季節、ぜひこの機会にお試しください！ \n  \n参加費　1500円（ライン割引あり） \n動きやすい服装をご持参ください。
URL:https://ilchibrainyoga-yagoto.com/event/3495/
END:VEVENT
BEGIN:VEVENT
DTSTART;TZID=Asia/Tokyo:20231015T143000
DTEND;TZID=Asia/Tokyo:20231015T153000
DTSTAMP:20260421T113744
CREATED:20231004T060337Z
LAST-MODIFIED:20231004T070923Z
UID:3507-1697380200-1697383800@ilchibrainyoga-yagoto.com
SUMMARY:おへそボタンを押して体も心も元気に！
DESCRIPTION:暑い夏が過ぎて体調を崩しやすい時期 そんな時はおへそを刺激して体の温度をあげ元気になりませんか？ \n生命を維持する大事な器官が集まっている大事なおへそ。その周りにある腸を刺激して体と心を元気に \nするへそヒーリング体験会を開催します。 \n\n【日時】10月15日（日）14:30-15:30\n【場所】イルチブレインヨガ八事スタジオ\n地下鉄名城線「八事日赤駅」より徒歩1分\n住所： 名古屋市昭和区山手通3-10グランウエスト山手2F \n【参加費】500円\n【お問い合わせ】052-836-6567
URL:https://ilchibrainyoga-yagoto.com/event/%e3%81%b8%e3%81%9d%e3%83%92%e3%83%bc%e3%83%aa%e3%83%b3%e3%82%b0%e4%bd%93%e9%a8%93%e4%bc%9a/
END:VEVENT
BEGIN:VEVENT
DTSTART;TZID=Asia/Tokyo:20231021T143000
DTEND;TZID=Asia/Tokyo:20231021T153000
DTSTAMP:20260421T113744
CREATED:20231004T070312Z
LAST-MODIFIED:20231004T070804Z
UID:3514-1697898600-1697902200@ilchibrainyoga-yagoto.com
SUMMARY:チャクラミニセミナー
DESCRIPTION:体や心の不調はチャクラが詰まっているのかもしれません。 \nチャクラを感じヒーリングをし整えてみませんか? \n【日時】10月21日（土）14:30-15:30\n【場所】イルチブレインヨガ八事スタジオ\n地下鉄名城線「八事日赤駅」より徒歩1分\n住所： 名古屋市昭和区山手通3-10グランウエスト山手2F \n【参加費】1000円（オーラ撮影つき）\n【お問い合わせ】052-836-6567 \n \n 
URL:https://ilchibrainyoga-yagoto.com/event/%e3%83%81%e3%83%a3%e3%82%af%e3%83%a9%e3%83%9f%e3%83%8b%e3%82%bb%e3%83%9f%e3%83%8a%e3%83%bc/
END:VEVENT
BEGIN:VEVENT
DTSTART;TZID=Asia/Tokyo:20231022T143000
DTEND;TZID=Asia/Tokyo:20231022T160000
DTSTAMP:20260421T113744
CREATED:20231004T065924Z
LAST-MODIFIED:20231004T070740Z
UID:3518-1697985000-1697990400@ilchibrainyoga-yagoto.com
SUMMARY:脳と腸のストレスケアセミナー
DESCRIPTION:腸と脳のストレスセルフケア講座行います \n【日時】10月22日（日）14:30-16:30\n【場所】イルチブレインヨガ八事スタジオ\n地下鉄名城線「八事日赤駅」より徒歩1分\n住所： 名古屋市昭和区山手通3-10グランウエスト山手2F \n【参加費】1000円\n【お問い合わせ】052-836-6567 \n腸は「心の鏡」と言われます。 \n精神的ストレスによって\n胃腸が疼（うず）くことはよくあります。 \nまた「考える臓器」だと言われています。 \n食物を消化吸収するだけでなく\n体に入った食物が安全かどうかを見極めます。 \n腸管に分布する神経細胞は\n大脳に匹敵するほど\nびっしり敷き詰められています。 \n人間の臓器が形成される過程を見てみると\n腸の神経管ができあがってから\n大脳の神経管が張り巡らされたそうです。 \nまた、腸には\n体内の免疫細胞の6～7割が\n集中していると言われています。 \n腸と脳。 \nこの２つが健康であることが\n健康寿命をのばすカギなのです。 \n \n  \n 
URL:https://ilchibrainyoga-yagoto.com/event/%e8%84%b3%e3%81%a8%e8%85%b8%e3%81%ae%e3%82%b9%e3%83%88%e3%83%ac%e3%82%b9%e3%82%b1%e3%82%a2%e3%82%bb%e3%83%9f%e3%83%8a%e3%83%bc/
END:VEVENT
BEGIN:VEVENT
DTSTART;TZID=Asia/Tokyo:20231028T143000
DTEND;TZID=Asia/Tokyo:20231028T160000
DTSTAMP:20260421T113744
CREATED:20231027T100505Z
LAST-MODIFIED:20231027T100505Z
UID:3541-1698503400-1698508800@ilchibrainyoga-yagoto.com
SUMMARY:チャクラセミナー
DESCRIPTION:日時】10月28日（土）14:30-15:30\n【場所】イルチブレインヨガ八事スタジオ\n地下鉄名城線「八事日赤駅」より徒歩1分\n住所： 名古屋市昭和区山手通3-10グランウエスト山手2F \n【参加費】1000円（オーラ撮影つき）\n【お問い合わせ】052-836-6567
URL:https://ilchibrainyoga-yagoto.com/event/%e3%83%81%e3%83%a3%e3%82%af%e3%83%a9%e3%82%bb%e3%83%9f%e3%83%8a%e3%83%bc/
END:VEVENT
BEGIN:VEVENT
DTSTART;TZID=Asia/Tokyo:20231029T143000
DTEND;TZID=Asia/Tokyo:20231029T160000
DTSTAMP:20260421T113744
CREATED:20231027T123919Z
LAST-MODIFIED:20231027T123919Z
UID:3548-1698589800-1698595200@ilchibrainyoga-yagoto.com
SUMMARY:Love Heals 上映会
DESCRIPTION:あなたの内に眠る自然治癒力を目覚させめるヒーリングと愛のドキュメンタリー \nLOVE　HEALS上映会 \n【日時】10月2９日（日）14:30-16;00\n【場所】イルチブレインヨガ八事スタジオ\n地下鉄名城線「八事日赤駅」より徒歩1分\n住所： 名古屋市昭和区山手通3-10グランウエスト山手2F \n【参加費】1500円\n【お問い合わせ】052-836-6567
URL:https://ilchibrainyoga-yagoto.com/event/love-heals-%e4%b8%8a%e6%98%a0%e4%bc%9a/
END:VEVENT
BEGIN:VEVENT
DTSTART;TZID=Asia/Tokyo:20231111T143000
DTEND;TZID=Asia/Tokyo:20231111T160000
DTSTAMP:20260421T113744
CREATED:20231110T032432Z
LAST-MODIFIED:20231110T033516Z
UID:3553-1699713000-1699718400@ilchibrainyoga-yagoto.com
SUMMARY:オープンクラス開催♪
DESCRIPTION:11/2に放映された全国番組ダウンダウンDXで腸活棒として紹介されたヒーリングライフを使って \nへそヒーリング体験会を行います。 \nどなたもご参加できます。ぜひお待ちしています！ \n【日時】11月11日（土）14:30-15:30\n【場所】イルチブレインヨガ八事スタジオ\n地下鉄名城線「八事日赤駅」より徒歩1分\n住所： 名古屋市昭和区山手通3-10グランウエスト山手2F \n【参加費】無料\n【お問い合わせ】052-836-6567
URL:https://ilchibrainyoga-yagoto.com/event/%e3%82%aa%e3%83%bc%e3%83%97%e3%83%b3%e3%82%af%e3%83%a9%e3%82%b9%e9%96%8b%e5%82%ac%e2%99%aa/
END:VEVENT
BEGIN:VEVENT
DTSTART;TZID=Asia/Tokyo:20231125T143000
DTEND;TZID=Asia/Tokyo:20231125T160000
DTSTAMP:20260421T113744
CREATED:20231110T033221Z
LAST-MODIFIED:20231110T033421Z
UID:3557-1700922600-1700928000@ilchibrainyoga-yagoto.com
SUMMARY:オープンクラス開催
DESCRIPTION:11/2に放映された全国番組ダウンダウンDXで腸活棒として紹介されたヒーリングライフを使って \nへそヒーリング体験会を行います。 \nどなたでもご参加できます！ぜひお待ちしています。 \n【日時】11月25日（土）14:30-15:30\n【場所】イルチブレインヨガ八事スタジオ\n地下鉄名城線「八事日赤駅」より徒歩1分\n住所： 名古屋市昭和区山手通3-10グランウエスト山手2F \n【参加費】無料\n【お問い合わせ】052-836-6567
URL:https://ilchibrainyoga-yagoto.com/event/3557/
END:VEVENT
BEGIN:VEVENT
DTSTART;TZID=Asia/Tokyo:20231214T100000
DTEND;TZID=Asia/Tokyo:20231214T120000
DTSTAMP:20260421T113744
CREATED:20231129T122208Z
LAST-MODIFIED:20231130T080641Z
UID:3580-1702548000-1702555200@ilchibrainyoga-yagoto.com
SUMMARY:｢Love Heals 上映会」
DESCRIPTION:あなたの内に眠る自然治癒力を目覚させめるヒーリングと愛のドキュメンタリー \nLOVE　HEALS上映会＋ミニ体験会を開催します。 \n【日時】12月14日（木）10:00-12;00\n【場所】イルチブレインヨガ八事スタジオ\n地下鉄名城線「八事日赤駅」より徒歩1分\n住所： 名古屋市昭和区山手通3-10グランウエスト山手2F \n【参加費】1500円\n【お問い合わせ】052-836-6567
URL:https://ilchibrainyoga-yagoto.com/event/%ef%bd%a2love-heals-%e4%b8%8a%e6%98%a0%e4%bc%9a%e3%80%8d/
END:VEVENT
BEGIN:VEVENT
DTSTART;TZID=Asia/Tokyo:20231216T143000
DTEND;TZID=Asia/Tokyo:20231216T163000
DTSTAMP:20260421T113744
CREATED:20231129T134621Z
LAST-MODIFIED:20231129T135009Z
UID:3585-1702737000-1702744200@ilchibrainyoga-yagoto.com
SUMMARY:「LOVE HEALS]上映会
DESCRIPTION:あなたの内に眠る自然治癒力を目覚させめるヒーリングと愛のドキュメンタリー \nLOVE　HEALS上映会＋ミニ体験会を開催します。 \n【日時】12月1６日（土）14:30-16;30\n【場所】イルチブレインヨガ八事スタジオ\n地下鉄名城線「八事日赤駅」より徒歩1分\n住所： 名古屋市昭和区山手通3-10グランウエスト山手2F \n【参加費】1500円\n【お問い合わせ】052-836-6567
URL:https://ilchibrainyoga-yagoto.com/event/3585/
END:VEVENT
BEGIN:VEVENT
DTSTART;TZID=Asia/Tokyo:20231221T100000
DTEND;TZID=Asia/Tokyo:20231221T120000
DTSTAMP:20260421T113744
CREATED:20231129T135847Z
LAST-MODIFIED:20231130T080718Z
UID:3592-1703152800-1703160000@ilchibrainyoga-yagoto.com
SUMMARY:「LOVE HEALS]上映会
DESCRIPTION:あなたの内に眠る自然治癒力を目覚させめるヒーリングと愛のドキュメンタリー \nLOVE　HEALS上映会＋ミニ体験会を開催します。 \n【日時】12月21日（木）10:00-12;00\n【場所】イルチブレインヨガ八事スタジオ\n地下鉄名城線「八事日赤駅」より徒歩1分\n住所： 名古屋市昭和区山手通3-10グランウエスト山手2F \n【参加費】1500円\n【お問い合わせ】052-836-6567
URL:https://ilchibrainyoga-yagoto.com/event/%e3%80%8clove-heals%e4%b8%8a%e6%98%a0%e4%bc%9a/
END:VEVENT
BEGIN:VEVENT
DTSTART;TZID=Asia/Tokyo:20231223T143000
DTEND;TZID=Asia/Tokyo:20231223T163000
DTSTAMP:20260421T113744
CREATED:20231129T142101Z
LAST-MODIFIED:20231129T142101Z
UID:3602-1703341800-1703349000@ilchibrainyoga-yagoto.com
SUMMARY:[LOVE HEALS 」上映会
DESCRIPTION:あなたの内に眠る自然治癒力を目覚させめるヒーリングと愛のドキュメンタリー \nLOVE　HEALS上映会＋ミニ体験会を開催します。 \n【日時】12月23日（土）14:30-16;30\n【場所】イルチブレインヨガ八事スタジオ\n地下鉄名城線「八事日赤駅」より徒歩1分\n住所： 名古屋市昭和区山手通3-10グランウエスト山手2F \n【参加費】1500円
URL:https://ilchibrainyoga-yagoto.com/event/love-heals-%e3%80%8d%e4%b8%8a%e6%98%a0%e4%bc%9a/
END:VEVENT
BEGIN:VEVENT
DTSTART;TZID=Asia/Tokyo:20231228T103000
DTEND;TZID=Asia/Tokyo:20231228T123000
DTSTAMP:20260421T113744
CREATED:20231129T141155Z
LAST-MODIFIED:20231129T141155Z
UID:3600-1703759400-1703766600@ilchibrainyoga-yagoto.com
SUMMARY:LOVE HEALS上映会
DESCRIPTION:あなたの内に眠る自然治癒力を目覚させめるヒーリングと愛のドキュメンタリー \nLOVE　HEALS上映会＋ミニ体験会を開催します。 \n【日時】12月28日（木）10:30-12;30\n【場所】イルチブレインヨガ八事スタジオ\n地下鉄名城線「八事日赤駅」より徒歩1分\n住所： 名古屋市昭和区山手通3-10グランウエスト山手2F \n【参加費】1500円\n【お問い合わせ】052-836-6567
URL:https://ilchibrainyoga-yagoto.com/event/love-heals%e4%b8%8a%e6%98%a0%e4%bc%9a/
END:VEVENT
BEGIN:VEVENT
DTSTART;TZID=Asia/Tokyo:20240114T140000
DTEND;TZID=Asia/Tokyo:20240114T160000
DTSTAMP:20260421T113744
CREATED:20231221T023659Z
LAST-MODIFIED:20231221T024342Z
UID:3612-1705240800-1705248000@ilchibrainyoga-yagoto.com
SUMMARY:へそヒーリング体験会
DESCRIPTION:TV番組でも紹介されたへそヒーリング専用ツールを使っての \n簡単な体操からおへその周りをほぐしていきます。 \n開催日：▼下記の日時からお選びください。\n１月14日（日）21日（日）28日（日）\n時間：14：00～16：00\n場所：イルチブレインヨガ八事スタジオ\n住所：名古屋市昭和区山手通3-10グランウエスト山手2階\n参加費：1000円\n問合せ電話：052-836-6567\nLINEからのお申し込みはこちら⇒https://lin.ee/urzdos2\nトレーナー：佐藤.岡田.大山\nその他：動きやすい服装 \n\n\n  \n\n\n\n\n\n \n体験ご希望日時\n		(必須)　※ご注意：月曜日は定休日です\n		\n \n—以下から選択してください—10111213141516171819時 —以下から選択してください—001020304050分 ～ のクラス\n \nお名前\n		 (必須)\n		\n \n\n \nメールアドレス\n		 (必須)\n		\n \n\n \nお電話番号（携帯可）\n		 (必須)\n		\n \n\n \nこちらのスタジオを何でお知りになりましたか？\n		 (必須)\n		\n \nチラシ看板書籍雑誌紹介Yahoo検索Google検索口コミその他Webサイト\n \nご関心があること、習得したいこと（複数可）\n \n自然治癒力アップ集中力アップダイエット体質改善ストレス緩和丹田強化呼吸法瞑想法リラックス運動不足解消姿勢がよくなりたいその他（備考欄にご記入ください）\n \n備考欄\n \n\n \n\n\n \n\n Δ
URL:https://ilchibrainyoga-yagoto.com/event/yagoto/
LOCATION:イルチブレインヨガ 八事スタジオ\, 愛知県名古屋市昭和区山手通3-10 グランウェスト八事 2階\, 466-0815\, 日本
ATTACH;FMTTYPE=image/jpeg:https://ilchibrainyoga-yagoto.com/wp-content/uploads/2023/05/KakaoTalk_20230519_204412199.jpg
END:VEVENT
BEGIN:VEVENT
DTSTART;TZID=Asia/Tokyo:20240121T140000
DTEND;TZID=Asia/Tokyo:20240121T160000
DTSTAMP:20260421T113744
CREATED:20231221T023907Z
LAST-MODIFIED:20231221T024349Z
UID:3623-1705845600-1705852800@ilchibrainyoga-yagoto.com
SUMMARY:へそヒーリング体験会
DESCRIPTION:TV番組でも紹介されたへそヒーリング専用ツールを使っての \n簡単な体操からおへその周りをほぐしていきます。 \n開催日：▼下記の日時からお選びください。\n１月21日（日）28日（日）\n時間：14：00～16：00\n場所：イルチブレインヨガ八事スタジオ\n住所：名古屋市昭和区山手通3-10グランウエスト山手2階\n参加費：1000円\n問合せ電話：052-836-6567\nLINEからのお申し込みはこちら⇒https://lin.ee/urzdos2\nトレーナー：佐藤.岡田.大山\nその他：動きやすい服装 \n\n\n  \n\n\n\n\n\n \n体験ご希望日時\n		(必須)　※ご注意：月曜日は定休日です\n		\n \n—以下から選択してください—10111213141516171819時 —以下から選択してください—001020304050分 ～ のクラス\n \nお名前\n		 (必須)\n		\n \n\n \nメールアドレス\n		 (必須)\n		\n \n\n \nお電話番号（携帯可）\n		 (必須)\n		\n \n\n \nこちらのスタジオを何でお知りになりましたか？\n		 (必須)\n		\n \nチラシ看板書籍雑誌紹介Yahoo検索Google検索口コミその他Webサイト\n \nご関心があること、習得したいこと（複数可）\n \n自然治癒力アップ集中力アップダイエット体質改善ストレス緩和丹田強化呼吸法瞑想法リラックス運動不足解消姿勢がよくなりたいその他（備考欄にご記入ください）\n \n備考欄\n \n\n \n\n\n \n\n Δ
URL:https://ilchibrainyoga-yagoto.com/event/yagoto-2/
LOCATION:イルチブレインヨガ 八事スタジオ\, 愛知県名古屋市昭和区山手通3-10 グランウェスト八事 2階\, 466-0815\, 日本
ATTACH;FMTTYPE=image/jpeg:https://ilchibrainyoga-yagoto.com/wp-content/uploads/2023/05/KakaoTalk_20230519_204412199.jpg
END:VEVENT
BEGIN:VEVENT
DTSTART;TZID=Asia/Tokyo:20240128T140000
DTEND;TZID=Asia/Tokyo:20240128T160000
DTSTAMP:20260421T113744
CREATED:20231221T024034Z
LAST-MODIFIED:20231221T024335Z
UID:3625-1706450400-1706457600@ilchibrainyoga-yagoto.com
SUMMARY:へそヒーリング体験会
DESCRIPTION:TV番組でも紹介されたへそヒーリング専用ツールを使っての\n簡単な体操からおへその周りをほぐしていきます。 \n開催日：１月28日（日）\n時間：14：00～16：00\n場所：イルチブレインヨガ八事スタジオ\n住所：名古屋市昭和区山手通3-10グランウエスト山手2階\n参加費：1000円\n問合せ電話：052-836-6567\nLINEからのお申し込みはこちら⇒https://lin.ee/urzdos2\nトレーナー：佐藤.岡田.大山\nその他：動きやすい服装 \n\n\n  \n\n\n\n\n\n \n体験ご希望日時\n		(必須)　※ご注意：月曜日は定休日です\n		\n \n—以下から選択してください—10111213141516171819時 —以下から選択してください—001020304050分 ～ のクラス\n \nお名前\n		 (必須)\n		\n \n\n \nメールアドレス\n		 (必須)\n		\n \n\n \nお電話番号（携帯可）\n		 (必須)\n		\n \n\n \nこちらのスタジオを何でお知りになりましたか？\n		 (必須)\n		\n \nチラシ看板書籍雑誌紹介Yahoo検索Google検索口コミその他Webサイト\n \nご関心があること、習得したいこと（複数可）\n \n自然治癒力アップ集中力アップダイエット体質改善ストレス緩和丹田強化呼吸法瞑想法リラックス運動不足解消姿勢がよくなりたいその他（備考欄にご記入ください）\n \n備考欄\n \n\n \n\n\n \n\n Δ
URL:https://ilchibrainyoga-yagoto.com/event/yagoto-3/
LOCATION:イルチブレインヨガ 八事スタジオ\, 愛知県名古屋市昭和区山手通3-10 グランウェスト八事 2階\, 466-0815\, 日本
ATTACH;FMTTYPE=image/jpeg:https://ilchibrainyoga-yagoto.com/wp-content/uploads/2023/05/KakaoTalk_20230519_204412199.jpg
END:VEVENT
BEGIN:VEVENT
DTSTART;TZID=Asia/Tokyo:20240214T140000
DTEND;TZID=Asia/Tokyo:20240214T160000
DTSTAMP:20260421T113744
CREATED:20240119T112932Z
LAST-MODIFIED:20240119T112932Z
UID:3644-1707919200-1707926400@ilchibrainyoga-yagoto.com
SUMMARY:2月　映画「LOVE HEALS」上映会＋体験会
DESCRIPTION:あなたの内に眠る自然治癒力を目覚めさせるヒーリングと愛のドキュメンタリー\n＜不調があなたに伝えたいことは？〉 ドキュメンタリー映画「LOVE HEALS」に描かれているのは、\n自分を愛する方法、 自分をヒーリングする具体的な方法です。\nあなたもそのトレーニングを一緒に体験してみませんか？  \n \n開催日時：2024年2月14日21日28日(水)　14:00～16:00\n2月15日22日29日(木)　 10:00～12:00\n会場名：イルチブレインヨガ八事スタジオ\n会場住所：名古屋市昭和区山手通り3-10グランウエスト山手2階\n参加費：1500円\nトレーナー：佐藤麻子 \n問合せ電話：052-836-6567\nLINEからのお申し込みはこちら⇒https://lin.ee/urzdos2 \n\n\n  \n\n\n\n\n\n \n体験ご希望日時\n		(必須)　※ご注意：月曜日は定休日です\n		\n \n—以下から選択してください—10111213141516171819時 —以下から選択してください—001020304050分 ～ のクラス\n \nお名前\n		 (必須)\n		\n \n\n \nメールアドレス\n		 (必須)\n		\n \n\n \nお電話番号（携帯可）\n		 (必須)\n		\n \n\n \nこちらのスタジオを何でお知りになりましたか？\n		 (必須)\n		\n \nチラシ看板書籍雑誌紹介Yahoo検索Google検索口コミその他Webサイト\n \nご関心があること、習得したいこと（複数可）\n \n自然治癒力アップ集中力アップダイエット体質改善ストレス緩和丹田強化呼吸法瞑想法リラックス運動不足解消姿勢がよくなりたいその他（備考欄にご記入ください）\n \n備考欄\n \n\n \n\n\n \n\n Δ
URL:https://ilchibrainyoga-yagoto.com/event/yagoto-4/
LOCATION:イルチブレインヨガ 八事スタジオ\, 愛知県名古屋市昭和区山手通3-10 グランウェスト八事 2階\, 466-0815\, 日本
ATTACH;FMTTYPE=image/jpeg:https://ilchibrainyoga-yagoto.com/wp-content/uploads/2024/01/LOVE-HEALS_image4.jpg
END:VEVENT
BEGIN:VEVENT
DTSTART;TZID=Asia/Tokyo:20240215T100000
DTEND;TZID=Asia/Tokyo:20240215T120000
DTSTAMP:20260421T113744
CREATED:20240119T113244Z
LAST-MODIFIED:20240119T113244Z
UID:3647-1707991200-1707998400@ilchibrainyoga-yagoto.com
SUMMARY:2月　映画「LOVE HEALS」上映会＋体験会
DESCRIPTION:あなたの内に眠る自然治癒力を目覚めさせるヒーリングと愛のドキュメンタリー\n＜不調があなたに伝えたいことは？〉 ドキュメンタリー映画「LOVE HEALS」に描かれているのは、\n自分を愛する方法、 自分をヒーリングする具体的な方法です。\nあなたもそのトレーニングを一緒に体験してみませんか？  \n \n開催日時：2024年2月21日28日(水)　14:00～16:00\n2月15日22日29日(木)　 10:00～12:00\n会場名：イルチブレインヨガ八事スタジオ\n会場住所：名古屋市昭和区山手通り3-10グランウエスト山手2階\n参加費：1500円\nトレーナー：佐藤麻子 \n問合せ電話：052-836-6567\nLINEからのお申し込みはこちら⇒https://lin.ee/urzdos2 \n\n\n  \n\n\n\n\n\n \n体験ご希望日時\n		(必須)　※ご注意：月曜日は定休日です\n		\n \n—以下から選択してください—10111213141516171819時 —以下から選択してください—001020304050分 ～ のクラス\n \nお名前\n		 (必須)\n		\n \n\n \nメールアドレス\n		 (必須)\n		\n \n\n \nお電話番号（携帯可）\n		 (必須)\n		\n \n\n \nこちらのスタジオを何でお知りになりましたか？\n		 (必須)\n		\n \nチラシ看板書籍雑誌紹介Yahoo検索Google検索口コミその他Webサイト\n \nご関心があること、習得したいこと（複数可）\n \n自然治癒力アップ集中力アップダイエット体質改善ストレス緩和丹田強化呼吸法瞑想法リラックス運動不足解消姿勢がよくなりたいその他（備考欄にご記入ください）\n \n備考欄\n \n\n \n\n\n \n\n Δ
URL:https://ilchibrainyoga-yagoto.com/event/yagoto-5/
LOCATION:イルチブレインヨガ 八事スタジオ\, 愛知県名古屋市昭和区山手通3-10 グランウェスト八事 2階\, 466-0815\, 日本
ATTACH;FMTTYPE=image/jpeg:https://ilchibrainyoga-yagoto.com/wp-content/uploads/2024/01/LOVE-HEALS_image4.jpg
END:VEVENT
BEGIN:VEVENT
DTSTART;TZID=Asia/Tokyo:20240221T140000
DTEND;TZID=Asia/Tokyo:20240221T160000
DTSTAMP:20260421T113744
CREATED:20240119T113330Z
LAST-MODIFIED:20240119T113330Z
UID:3649-1708524000-1708531200@ilchibrainyoga-yagoto.com
SUMMARY:2月　映画「LOVE HEALS」上映会＋体験会
DESCRIPTION:あなたの内に眠る自然治癒力を目覚めさせるヒーリングと愛のドキュメンタリー\n＜不調があなたに伝えたいことは？〉 ドキュメンタリー映画「LOVE HEALS」に描かれているのは、\n自分を愛する方法、 自分をヒーリングする具体的な方法です。\nあなたもそのトレーニングを一緒に体験してみませんか？  \n \n開催日時：2024年2月21日28日(水)　14:00～16:00\n2月22日29日(木)　 10:00～12:00\n会場名：イルチブレインヨガ八事スタジオ\n会場住所：名古屋市昭和区山手通り3-10グランウエスト山手2階\n参加費：1500円\nトレーナー：佐藤麻子 \n問合せ電話：052-836-6567\nLINEからのお申し込みはこちら⇒https://lin.ee/urzdos2 \n\n\n  \n\n\n\n\n\n \n体験ご希望日時\n		(必須)　※ご注意：月曜日は定休日です\n		\n \n—以下から選択してください—10111213141516171819時 —以下から選択してください—001020304050分 ～ のクラス\n \nお名前\n		 (必須)\n		\n \n\n \nメールアドレス\n		 (必須)\n		\n \n\n \nお電話番号（携帯可）\n		 (必須)\n		\n \n\n \nこちらのスタジオを何でお知りになりましたか？\n		 (必須)\n		\n \nチラシ看板書籍雑誌紹介Yahoo検索Google検索口コミその他Webサイト\n \nご関心があること、習得したいこと（複数可）\n \n自然治癒力アップ集中力アップダイエット体質改善ストレス緩和丹田強化呼吸法瞑想法リラックス運動不足解消姿勢がよくなりたいその他（備考欄にご記入ください）\n \n備考欄\n \n\n \n\n\n \n\n Δ
URL:https://ilchibrainyoga-yagoto.com/event/yagoto-6/
LOCATION:イルチブレインヨガ 八事スタジオ\, 愛知県名古屋市昭和区山手通3-10 グランウェスト八事 2階\, 466-0815\, 日本
ATTACH;FMTTYPE=image/jpeg:https://ilchibrainyoga-yagoto.com/wp-content/uploads/2024/01/LOVE-HEALS_image4.jpg
END:VEVENT
BEGIN:VEVENT
DTSTART;TZID=Asia/Tokyo:20240222T100000
DTEND;TZID=Asia/Tokyo:20240222T120000
DTSTAMP:20260421T113744
CREATED:20240119T113405Z
LAST-MODIFIED:20240119T113405Z
UID:3651-1708596000-1708603200@ilchibrainyoga-yagoto.com
SUMMARY:2月　映画「LOVE HEALS」上映会＋体験会
DESCRIPTION:あなたの内に眠る自然治癒力を目覚めさせるヒーリングと愛のドキュメンタリー\n＜不調があなたに伝えたいことは？〉 ドキュメンタリー映画「LOVE HEALS」に描かれているのは、\n自分を愛する方法、 自分をヒーリングする具体的な方法です。\nあなたもそのトレーニングを一緒に体験してみませんか？  \n \n開催日時：2024年2月28日(水)　14:00～16:00\n2月22日29日(木)　 10:00～12:00\n会場名：イルチブレインヨガ八事スタジオ\n会場住所：名古屋市昭和区山手通り3-10グランウエスト山手2階\n参加費：1500円\nトレーナー：佐藤麻子 \n問合せ電話：052-836-6567\nLINEからのお申し込みはこちら⇒https://lin.ee/urzdos2 \n\n\n  \n\n\n\n\n\n \n体験ご希望日時\n		(必須)　※ご注意：月曜日は定休日です\n		\n \n—以下から選択してください—10111213141516171819時 —以下から選択してください—001020304050分 ～ のクラス\n \nお名前\n		 (必須)\n		\n \n\n \nメールアドレス\n		 (必須)\n		\n \n\n \nお電話番号（携帯可）\n		 (必須)\n		\n \n\n \nこちらのスタジオを何でお知りになりましたか？\n		 (必須)\n		\n \nチラシ看板書籍雑誌紹介Yahoo検索Google検索口コミその他Webサイト\n \nご関心があること、習得したいこと（複数可）\n \n自然治癒力アップ集中力アップダイエット体質改善ストレス緩和丹田強化呼吸法瞑想法リラックス運動不足解消姿勢がよくなりたいその他（備考欄にご記入ください）\n \n備考欄\n \n\n \n\n\n \n\n Δ
URL:https://ilchibrainyoga-yagoto.com/event/yagoto-7/
LOCATION:イルチブレインヨガ 八事スタジオ\, 愛知県名古屋市昭和区山手通3-10 グランウェスト八事 2階\, 466-0815\, 日本
ATTACH;FMTTYPE=image/jpeg:https://ilchibrainyoga-yagoto.com/wp-content/uploads/2024/01/LOVE-HEALS_image4.jpg
END:VEVENT
BEGIN:VEVENT
DTSTART;TZID=Asia/Tokyo:20240228T140000
DTEND;TZID=Asia/Tokyo:20240228T160000
DTSTAMP:20260421T113744
CREATED:20240119T113452Z
LAST-MODIFIED:20240119T113452Z
UID:3653-1709128800-1709136000@ilchibrainyoga-yagoto.com
SUMMARY:2月　映画「LOVE HEALS」上映会＋体験会
DESCRIPTION:あなたの内に眠る自然治癒力を目覚めさせるヒーリングと愛のドキュメンタリー\n＜不調があなたに伝えたいことは？〉 ドキュメンタリー映画「LOVE HEALS」に描かれているのは、\n自分を愛する方法、 自分をヒーリングする具体的な方法です。\nあなたもそのトレーニングを一緒に体験してみませんか？  \n \n開催日時：2024年2月28日(水)　14:00～16:00\n2月29日(木)　 10:00～12:00\n会場名：イルチブレインヨガ八事スタジオ\n会場住所：名古屋市昭和区山手通り3-10グランウエスト山手2階\n参加費：1500円\nトレーナー：佐藤麻子 \n問合せ電話：052-836-6567\nLINEからのお申し込みはこちら⇒https://lin.ee/urzdos2 \n\n\n  \n\n\n\n\n\n \n体験ご希望日時\n		(必須)　※ご注意：月曜日は定休日です\n		\n \n—以下から選択してください—10111213141516171819時 —以下から選択してください—001020304050分 ～ のクラス\n \nお名前\n		 (必須)\n		\n \n\n \nメールアドレス\n		 (必須)\n		\n \n\n \nお電話番号（携帯可）\n		 (必須)\n		\n \n\n \nこちらのスタジオを何でお知りになりましたか？\n		 (必須)\n		\n \nチラシ看板書籍雑誌紹介Yahoo検索Google検索口コミその他Webサイト\n \nご関心があること、習得したいこと（複数可）\n \n自然治癒力アップ集中力アップダイエット体質改善ストレス緩和丹田強化呼吸法瞑想法リラックス運動不足解消姿勢がよくなりたいその他（備考欄にご記入ください）\n \n備考欄\n \n\n \n\n\n \n\n Δ
URL:https://ilchibrainyoga-yagoto.com/event/yagoto-8/
LOCATION:イルチブレインヨガ 八事スタジオ\, 愛知県名古屋市昭和区山手通3-10 グランウェスト八事 2階\, 466-0815\, 日本
ATTACH;FMTTYPE=image/jpeg:https://ilchibrainyoga-yagoto.com/wp-content/uploads/2024/01/LOVE-HEALS_image4.jpg
END:VEVENT
BEGIN:VEVENT
DTSTART;TZID=Asia/Tokyo:20240229T100000
DTEND;TZID=Asia/Tokyo:20240229T120000
DTSTAMP:20260421T113744
CREATED:20240119T113603Z
LAST-MODIFIED:20240119T113603Z
UID:3655-1709200800-1709208000@ilchibrainyoga-yagoto.com
SUMMARY:2月　映画「LOVE HEALS」上映会＋体験会
DESCRIPTION:あなたの内に眠る自然治癒力を目覚めさせるヒーリングと愛のドキュメンタリー\n＜不調があなたに伝えたいことは？〉 ドキュメンタリー映画「LOVE HEALS」に描かれているのは、\n自分を愛する方法、 自分をヒーリングする具体的な方法です。\nあなたもそのトレーニングを一緒に体験してみませんか？  \n \n開催日時：\n2月29日(木)　 10:00～12:00\n会場名：イルチブレインヨガ八事スタジオ\n会場住所：名古屋市昭和区山手通り3-10グランウエスト山手2階\n参加費：1500円\nトレーナー：佐藤麻子 \n問合せ電話：052-836-6567\nLINEからのお申し込みはこちら⇒https://lin.ee/urzdos2 \n\n\n  \n\n\n\n\n\n \n体験ご希望日時\n		(必須)　※ご注意：月曜日は定休日です\n		\n \n—以下から選択してください—10111213141516171819時 —以下から選択してください—001020304050分 ～ のクラス\n \nお名前\n		 (必須)\n		\n \n\n \nメールアドレス\n		 (必須)\n		\n \n\n \nお電話番号（携帯可）\n		 (必須)\n		\n \n\n \nこちらのスタジオを何でお知りになりましたか？\n		 (必須)\n		\n \nチラシ看板書籍雑誌紹介Yahoo検索Google検索口コミその他Webサイト\n \nご関心があること、習得したいこと（複数可）\n \n自然治癒力アップ集中力アップダイエット体質改善ストレス緩和丹田強化呼吸法瞑想法リラックス運動不足解消姿勢がよくなりたいその他（備考欄にご記入ください）\n \n備考欄\n \n\n \n\n\n \n\n Δ
URL:https://ilchibrainyoga-yagoto.com/event/yagoto-9/
LOCATION:イルチブレインヨガ 八事スタジオ\, 愛知県名古屋市昭和区山手通3-10 グランウェスト八事 2階\, 466-0815\, 日本
ATTACH;FMTTYPE=image/jpeg:https://ilchibrainyoga-yagoto.com/wp-content/uploads/2024/01/LOVE-HEALS_image4.jpg
END:VEVENT
BEGIN:VEVENT
DTSTART;TZID=Asia/Tokyo:20240315T100000
DTEND;TZID=Asia/Tokyo:20240315T210000
DTSTAMP:20260421T113744
CREATED:20240309T052440Z
LAST-MODIFIED:20240309T052440Z
UID:3737-1710496800-1710536400@ilchibrainyoga-yagoto.com
SUMMARY:気功体験会
DESCRIPTION:気の流れを良くすることで姿勢が良くなり呼吸も深くなる気功。みなさんにこう体験会を開催します。\nぜひこの機会にお試しください。 \n開催日：▼下記の日時からお選びください。\n3月15日(金)/20日(水)/22日(金)/27日(水)/29日(金)\n時間：10:00～／14:00～／16:00～／19:00～\n参加費：1000円\n場所：イルチブレインヨガ八事スタジオ\n住所：名古屋市昭和区山手通3-10グランウエスト山手2階\n動きやすい服装をご持参ください。 \n問合せ電話：052-836-6567\nLINEからのお申し込みはこちら⇒https://lin.ee/urzdos2 \n\n\n  \n\n\n\n\n\n \n体験ご希望日時\n		(必須)　※ご注意：月曜日は定休日です\n		\n \n—以下から選択してください—10111213141516171819時 —以下から選択してください—001020304050分 ～ のクラス\n \nお名前\n		 (必須)\n		\n \n\n \nメールアドレス\n		 (必須)\n		\n \n\n \nお電話番号（携帯可）\n		 (必須)\n		\n \n\n \nこちらのスタジオを何でお知りになりましたか？\n		 (必須)\n		\n \nチラシ看板書籍雑誌紹介Yahoo検索Google検索口コミその他Webサイト\n \nご関心があること、習得したいこと（複数可）\n \n自然治癒力アップ集中力アップダイエット体質改善ストレス緩和丹田強化呼吸法瞑想法リラックス運動不足解消姿勢がよくなりたいその他（備考欄にご記入ください）\n \n備考欄\n \n\n \n\n\n \n\n Δ
URL:https://ilchibrainyoga-yagoto.com/event/yagoto-10/
LOCATION:イルチブレインヨガ 八事スタジオ\, 愛知県名古屋市昭和区山手通3-10 グランウェスト八事 2階\, 466-0815\, 日本
ATTACH;FMTTYPE=image/jpeg:https://ilchibrainyoga-yagoto.com/wp-content/uploads/2024/03/22145941_s.jpg
END:VEVENT
END:VCALENDAR