BEGIN:VCALENDAR
VERSION:2.0
PRODID:-//イルチブレインヨガ八事スタジオ - ECPv6.15.20//NONSGML v1.0//EN
CALSCALE:GREGORIAN
METHOD:PUBLISH
X-ORIGINAL-URL:https://ilchibrainyoga-yagoto.com
X-WR-CALDESC:イルチブレインヨガ八事スタジオ のイベント
REFRESH-INTERVAL;VALUE=DURATION:PT1H
X-Robots-Tag:noindex
X-PUBLISHED-TTL:PT1H
BEGIN:VTIMEZONE
TZID:Asia/Tokyo
BEGIN:STANDARD
TZOFFSETFROM:+0900
TZOFFSETTO:+0900
TZNAME:JST
DTSTART:20230101T000000
END:STANDARD
END:VTIMEZONE
BEGIN:VEVENT
DTSTART;TZID=Asia/Tokyo:20240616T140000
DTEND;TZID=Asia/Tokyo:20240616T160000
DTSTAMP:20260420T094648
CREATED:20240519T023548Z
LAST-MODIFIED:20240519T023548Z
UID:3801-1718546400-1718553600@ilchibrainyoga-yagoto.com
SUMMARY:フリフリダイエットワークショップ
DESCRIPTION:ダイエットを成功させるには、気を整えることが第一。\n体を動かす事によって、気持ちをリラックスさせ、ストレスをなくして、食欲をコントロールすることが大事です。\n「フリフリダイエット」は、誰でも簡単に行えるエクササイズです。\nご予約をお待ちしています。\n開催日：6月16日（日）\n時間：14：00～16：00\n会場名：イルチブレインヨガ八事スタジオ\n会場住所：名古屋市昭和区山手通3-10グランウエスト山手2階\n参加費：1000円\nトレーナー：佐久間\n持ち物：タオル、水分\nその他：動きやすい服装 \n問合せ電話：052-836-6567\nLINEからのお申し込みはこちら⇒https://lin.ee/urzdos2 \n\n\n  \n\n\n\n\n\n \n体験ご希望日時\n		(必須)　※ご注意：月曜日は定休日です\n		\n \n—以下から選択してください—10111213141516171819時 —以下から選択してください—001020304050分 ～ のクラス\n \nお名前\n		 (必須)\n		\n \n\n \nメールアドレス\n		 (必須)\n		\n \n\n \nお電話番号（携帯可）\n		 (必須)\n		\n \n\n \nこちらのスタジオを何でお知りになりましたか？\n		 (必須)\n		\n \nチラシ看板書籍雑誌紹介Yahoo検索Google検索口コミその他Webサイト\n \nご関心があること、習得したいこと（複数可）\n \n自然治癒力アップ集中力アップダイエット体質改善ストレス緩和丹田強化呼吸法瞑想法リラックス運動不足解消姿勢がよくなりたいその他（備考欄にご記入ください）\n \n備考欄\n \n\n \n\n\n \n\n Δ \n\n\n\n株式会社DAHN WORLD JAPAN　ダンワールドジャパン
URL:https://ilchibrainyoga-yagoto.com/event/%e3%83%95%e3%83%aa%e3%83%95%e3%83%aa%e3%83%80%e3%82%a4%e3%82%a8%e3%83%83%e3%83%88%e3%83%af%e3%83%bc%e3%82%af%e3%82%b7%e3%83%a7%e3%83%83%e3%83%97/
LOCATION:イルチブレインヨガ 八事スタジオ\, 愛知県名古屋市昭和区山手通3-10 グランウェスト八事 2階\, 466-0815\, 日本
CATEGORIES:昭和区、八事、ヨガ、呼吸、瞑想、腸、脳、腸内環境改善、冷え改善、便秘解消・美肌・代謝UP・ダイエット
ATTACH;FMTTYPE=image/png:https://ilchibrainyoga-yagoto.com/wp-content/uploads/2024/04/528428.png
END:VEVENT
END:VCALENDAR