BEGIN:VCALENDAR
VERSION:2.0
PRODID:-//イルチブレインヨガ八事スタジオ - ECPv6.15.20//NONSGML v1.0//EN
CALSCALE:GREGORIAN
METHOD:PUBLISH
X-WR-CALNAME:イルチブレインヨガ八事スタジオ
X-ORIGINAL-URL:https://ilchibrainyoga-yagoto.com
X-WR-CALDESC:イルチブレインヨガ八事スタジオ のイベント
REFRESH-INTERVAL;VALUE=DURATION:PT1H
X-Robots-Tag:noindex
X-PUBLISHED-TTL:PT1H
BEGIN:VTIMEZONE
TZID:Asia/Tokyo
BEGIN:STANDARD
TZOFFSETFROM:+0900
TZOFFSETTO:+0900
TZNAME:JST
DTSTART:20170101T000000
END:STANDARD
END:VTIMEZONE
BEGIN:VEVENT
DTSTART;VALUE=DATE:20200204
DTEND;VALUE=DATE:20200205
DTSTAMP:20260420T153319
CREATED:20190905T141543Z
LAST-MODIFIED:20200110T062713Z
UID:2605-1580774400-1580860799@ilchibrainyoga-yagoto.com
SUMMARY:4がつく日はヨガの日🧘‍♀️
DESCRIPTION:★脳と腸を活性化させるブレイン体操、呼吸・瞑想と言ったトレーニング体験が \n４日ヨガの日限定500円で体験できます★ \n期待できる効果　　体温・免疫力アップ、体の歪みのバランス矯正、心も体もリラックス、デトックス\n対象者　　　老若男女どなたでもご参加いただけます。\n開催日　　　2月4日（火） \n＊（各クラス２名様限定） \n１０：30～11：40（70分） \n１４：30～15：40（70分） \n１９：30〜20：40（70分） \n★腸もみほぐし20分3240円→無料！！プレゼント🎁 \n会場名　　　イルチブレインヨガ八事スタジオ\n会場住所　　愛知県名古屋市昭和区山手通３－１０グランウエスト山手２F\n参加費　　　500円\n問い合わせ・電話　　０５２－８３６－６５６７　＊要予約\nトレーナー　　川村優奈\nその他　　動きやすい服装、フェイスタオルをお持ちください。 \n[event-button]
URL:https://ilchibrainyoga-yagoto.com/event/4%e3%81%8c%e3%81%a4%e3%81%8f%e6%97%a5%e3%81%af%e3%83%a8%e3%82%ac%e3%81%ae%e6%97%a5%f0%9f%a7%98%e2%80%8d%e2%99%80%ef%b8%8f-2/
CATEGORIES:体がだるい、疲れがとれない、やる気が出ない、コリやすい、お通じ改善、緊張しやすい、イライラする、冷えが気になる、運動不足,八事ヨガ、昭和区でヨガ、東洋医学、脳科学、呼吸、瞑想、健康,名古屋ヨガ、昭和区ヨガ、天白区ヨガ、千種区ヨガ、瑞穂区ヨガ、八事ヨガ、健康、体操、呼吸、瞑想、脳、腸、東洋医学、脳科学,昭和区、八事、ヨガ、呼吸、瞑想、腸、脳、腸内環境改善、冷え改善、便秘解消・美肌・代謝UP・ダイエット,脳、引き寄せ、腸、ヨガ、集中力、呼吸、瞑想
ORGANIZER;CN="%E3%82%A4%E3%83%AB%E3%83%81%E3%83%96%E3%83%AC%E3%82%A4%E3%83%B3%E3%83%A8%E3%82%AC%E5%85%AB%E4%BA%8B%E3%82%B9%E3%82%BF%E3%82%B8%E3%82%AA":MAILTO:ibyoga.yagoto@gmail.com
END:VEVENT
BEGIN:VEVENT
DTSTART;VALUE=DATE:20191024
DTEND;VALUE=DATE:20191025
DTSTAMP:20260420T153319
CREATED:20191017T150153Z
LAST-MODIFIED:20191017T150153Z
UID:2675-1571875200-1571961599@ilchibrainyoga-yagoto.com
SUMMARY:4がつく日はヨガの日🧘‍♀️✨✨
DESCRIPTION:★脳と腸を活性化させるブレイン体操、呼吸・瞑想と言ったトレーニング体験が \n４日ヨガの日限定 \nワンコイン500円体験できます★ \n期待できる効果　　体温・免疫力アップ、体の歪みのバランス矯正、心も体もリラックス、デトックス\n対象者　　　老若男女どなたでもご参加いただけます。 \n＊（各クラス２名様限定） \n１０：30～11：40（70分） \n１４：30～15：40（70分） \n１９：30〜20：40（70分） \n★腸もみほぐし20分3240円→無料！！プレゼント🎁 \n会場名　　　イルチブレインヨガ八事スタジオ\n会場住所　　愛知県名古屋市昭和区山手通３－１０グランウエスト山手２F\n参加費　　　500円\n問い合わせ・電話　　０５２－８３６－６５６７\nトレーナー　　川村優奈\nその他　　動きやすい服装、フェイスタオルをお持ちください。 \n[event-button]
URL:https://ilchibrainyoga-yagoto.com/event/4%e3%81%8c%e3%81%a4%e3%81%8f%e6%97%a5%e3%81%af%e3%83%a8%e3%82%ac%e3%81%ae%e6%97%a5%f0%9f%a7%98%e2%80%8d%e2%99%80%ef%b8%8f%e2%9c%a8%e2%9c%a8/
LOCATION:イルチブレインヨガ 八事スタジオ\, 愛知県名古屋市昭和区山手通3-10 グランウェスト八事 2階\, 466-0815\, 日本
CATEGORIES:名古屋ヨガ、昭和区ヨガ、天白区ヨガ、千種区ヨガ、瑞穂区ヨガ、八事ヨガ、健康、体操、呼吸、瞑想、脳、腸、東洋医学、脳科学,昭和区、八事、ヨガ、呼吸、瞑想、腸、脳、腸内環境改善、冷え改善、便秘解消・美肌・代謝UP・ダイエット,脳、引き寄せ、腸、ヨガ、集中力、呼吸、瞑想
ORGANIZER;CN="%E3%82%A4%E3%83%AB%E3%83%81%E3%83%96%E3%83%AC%E3%82%A4%E3%83%B3%E3%83%A8%E3%82%AC%E5%85%AB%E4%BA%8B%E3%82%B9%E3%82%BF%E3%82%B8%E3%82%AA":MAILTO:ibyoga.yagoto@gmail.com
END:VEVENT
BEGIN:VEVENT
DTSTART;TZID=Asia/Tokyo:20191022T140000
DTEND;TZID=Asia/Tokyo:20191022T160000
DTSTAMP:20260420T153319
CREATED:20191017T151633Z
LAST-MODIFIED:20191017T151633Z
UID:2677-1571752800-1571760000@ilchibrainyoga-yagoto.com
SUMMARY:🍀健康&ヒーリングお茶会🍀
DESCRIPTION:✨健康&ヒーリングお茶会のお知らせ✨ \n～ストレス・疲れ・便秘等、解消したい方是非ご参加ください〜 \n  \n・最近疲れが取れないなあ、リラックスができないなあ…そんなあなたにオススメのヒーリングの時間、みんなで楽しく交流しながら、自分の健康を見つめ直す時間を持ちませんか？ \n  \n【内容】\nオーラ撮影（ストレスチェック）＋セルフヒーリング（自分を癒す）＋カクレミノ茶（体温UP&デトックス） \nオーラ撮影→今の健康のバランス、ストレス度がチェックできます。また、自分の出やすい色から特性なども判断できます。 \nセルフヒーリング→自分自身で自分を癒すヒーリング方法をお伝えします。とっても簡単あっと驚きの速効果がわかる！自分でもできるヒーリング法です。 \nカクレミノお茶→デトックス効果の高いカクレミノのお茶で体も心もスッキリします。 \n  \n【日時】10月22日（火） 14:00〜16:00\n【場所】イルチブレインヨガ八事スタジオ\n地下鉄名城線「八事日赤駅」より徒歩1分\n住所： 名古屋市昭和区山手通3-10グランウエスト山手2F \n【参加費】1500円\n【お問い合わせ】052-836-6567 \nイベント予約はこちら↓↓↓ \n[event-button]
URL:https://ilchibrainyoga-yagoto.com/event/%f0%9f%8d%80%e5%81%a5%e5%ba%b7%e3%83%92%e3%83%bc%e3%83%aa%e3%83%b3%e3%82%b0%e3%81%8a%e8%8c%b6%e4%bc%9a%f0%9f%8d%80/
LOCATION:イルチブレインヨガ 八事スタジオ\, 愛知県名古屋市昭和区山手通3-10 グランウェスト八事 2階\, 466-0815\, 日本
CATEGORIES:体がだるい、疲れがとれない、やる気が出ない、コリやすい、お通じ改善、緊張しやすい、イライラする、冷えが気になる、運動不足,八事ヨガ、昭和区でヨガ、東洋医学、脳科学、呼吸、瞑想、健康,名古屋ヨガ、昭和区ヨガ、天白区ヨガ、千種区ヨガ、瑞穂区ヨガ、八事ヨガ、健康、体操、呼吸、瞑想、脳、腸、東洋医学、脳科学,昭和区、八事、ヨガ、呼吸、瞑想、腸、脳、腸内環境改善、冷え改善、便秘解消・美肌・代謝UP・ダイエット,脳、引き寄せ、腸、ヨガ、集中力、呼吸、瞑想
ORGANIZER;CN="%E3%82%A4%E3%83%AB%E3%83%81%E3%83%96%E3%83%AC%E3%82%A4%E3%83%B3%E3%83%A8%E3%82%AC%E5%85%AB%E4%BA%8B%E3%82%B9%E3%82%BF%E3%82%B8%E3%82%AA":MAILTO:ibyoga.yagoto@gmail.com
END:VEVENT
BEGIN:VEVENT
DTSTART;VALUE=DATE:20190924
DTEND;VALUE=DATE:20190925
DTSTAMP:20260420T153319
CREATED:20190905T141358Z
LAST-MODIFIED:20190905T141632Z
UID:2601-1569283200-1569369599@ilchibrainyoga-yagoto.com
SUMMARY:4がつく日はヨガの日🧘‍♀️
DESCRIPTION:★脳と腸を活性化させるブレイン体操、呼吸・瞑想と言ったトレーニング体験が \n４日ヨガの日限定無料体験できます★ \n期待できる効果　　体温・免疫力アップ、体の歪みのバランス矯正、心も体もリラックス、デトックス\n対象者　　　老若男女どなたでもご参加いただけます。\n開催日　　　9月４日（水）１４日（土）２４日（火） \n＊（各クラス２名様限定） \n１０：30～11：40（70分） \n１４：30～15：40（70分） \n１９：30〜20：40（70分） \n★腸もみほぐし20分3240円→無料！！プレゼント🎁 \n会場名　　　イルチブレインヨガ八事スタジオ\n会場住所　　愛知県名古屋市昭和区山手通３－１０グランウエスト山手２F\n参加費　　　無料\n問い合わせ・電話　　０５２－８３６－６５６７　＊要予約\nトレーナー　　川村優奈\nその他　　動きやすい服装、フェイスタオルをお持ちください。 \n[event-button]
URL:https://ilchibrainyoga-yagoto.com/event/4%e3%81%8c%e3%81%a4%e3%81%8f%e6%97%a5%e3%81%af%e3%83%a8%e3%82%ac%e3%81%ae%e6%97%a5%f0%9f%a7%98%e2%80%8d%e2%99%80%ef%b8%8f/
CATEGORIES:体がだるい、疲れがとれない、やる気が出ない、コリやすい、お通じ改善、緊張しやすい、イライラする、冷えが気になる、運動不足,八事ヨガ、昭和区でヨガ、東洋医学、脳科学、呼吸、瞑想、健康,名古屋ヨガ、昭和区ヨガ、天白区ヨガ、千種区ヨガ、瑞穂区ヨガ、八事ヨガ、健康、体操、呼吸、瞑想、脳、腸、東洋医学、脳科学,昭和区、八事、ヨガ、呼吸、瞑想、腸、脳、腸内環境改善、冷え改善、便秘解消・美肌・代謝UP・ダイエット,脳、引き寄せ、腸、ヨガ、集中力、呼吸、瞑想
ORGANIZER;CN="%E3%82%A4%E3%83%AB%E3%83%81%E3%83%96%E3%83%AC%E3%82%A4%E3%83%B3%E3%83%A8%E3%82%AC%E5%85%AB%E4%BA%8B%E3%82%B9%E3%82%BF%E3%82%B8%E3%82%AA":MAILTO:ibyoga.yagoto@gmail.com
END:VEVENT
BEGIN:VEVENT
DTSTART;TZID=Asia/Tokyo:20181216T100000
DTEND;TZID=Asia/Tokyo:20181216T160000
DTSTAMP:20260420T153319
CREATED:20181107T145605Z
LAST-MODIFIED:20181206T092824Z
UID:2036-1544954400-1544976000@ilchibrainyoga-yagoto.com
SUMMARY:お腹周りが気になる方のヨガ
DESCRIPTION:内容：気になるポッコリを腸活性化ﾄﾚｰﾆﾝｸﾞでｽｯｷﾘ！ \n期待できる効果：デトックス、体温アップ、リラックス、呼吸が深くなるなど \n時間：１０：００～１２：００、１４：００～１６：００ \nトレーナー：伊藤知絵 \nその他：動きやすい服装（冬季は長袖・長ズボンが良いと思われます）、フェイスタオルをお持ちください。 \n 
URL:https://ilchibrainyoga-yagoto.com/event/%e3%81%8a%e8%85%b9%e5%91%a8%e3%82%8a%e3%81%8c%e6%b0%97%e3%81%ab%e3%81%aa%e3%82%8b%e6%96%b9%e3%81%ae%e3%83%a8%e3%82%ac-3/
LOCATION:イルチブレインヨガ 八事スタジオ\, 愛知県名古屋市昭和区山手通3-10 グランウェスト八事 2階\, 466-0815\, 日本
CATEGORIES:昭和区、八事、ヨガ、呼吸、瞑想、腸、脳、腸内環境改善、冷え改善、便秘解消・美肌・代謝UP・ダイエット
ORGANIZER;CN="%E3%82%A4%E3%83%AB%E3%83%81%E3%83%96%E3%83%AC%E3%82%A4%E3%83%B3%E3%83%A8%E3%82%AC%E5%85%AB%E4%BA%8B%E3%82%B9%E3%82%BF%E3%82%B8%E3%82%AA":MAILTO:ibyoga.yagoto@gmail.com
END:VEVENT
BEGIN:VEVENT
DTSTART;TZID=Asia/Tokyo:20181211T100000
DTEND;TZID=Asia/Tokyo:20181211T160000
DTSTAMP:20260420T153319
CREATED:20181107T145408Z
LAST-MODIFIED:20181107T145848Z
UID:2034-1544522400-1544544000@ilchibrainyoga-yagoto.com
SUMMARY:お腹周りが気になる方のヨガ
DESCRIPTION:内容：気になるポッコリを腸活性化ﾄﾚｰﾆﾝｸﾞでｽｯｷﾘ！ \n期待できる効果：デトックス、体温アップ、リラックス、呼吸が深くなるなど \n時間：１０：００～１２：００、１４：００～１６：００ \nトレーナー：伊藤知絵 \nその他：動きやすい服装（冬季は長袖・長ズボンが良いと思われます）、フェイスタオルをお持ちください。
URL:https://ilchibrainyoga-yagoto.com/event/%e3%81%8a%e8%85%b9%e5%91%a8%e3%82%8a%e3%81%8c%e6%b0%97%e3%81%ab%e3%81%aa%e3%82%8b%e6%96%b9%e3%81%ae%e3%83%a8%e3%82%ac-2/
LOCATION:イルチブレインヨガ 八事スタジオ\, 愛知県名古屋市昭和区山手通3-10 グランウェスト八事 2階\, 466-0815\, 日本
CATEGORIES:昭和区、八事、ヨガ、呼吸、瞑想、腸、脳、腸内環境改善、冷え改善、便秘解消・美肌・代謝UP・ダイエット
ORGANIZER;CN="%E3%82%A4%E3%83%AB%E3%83%81%E3%83%96%E3%83%AC%E3%82%A4%E3%83%B3%E3%83%A8%E3%82%AC%E5%85%AB%E4%BA%8B%E3%82%B9%E3%82%BF%E3%82%B8%E3%82%AA":MAILTO:ibyoga.yagoto@gmail.com
END:VEVENT
BEGIN:VEVENT
DTSTART;TZID=Asia/Tokyo:20181205T100000
DTEND;TZID=Asia/Tokyo:20181205T160000
DTSTAMP:20260420T153319
CREATED:20181107T145128Z
LAST-MODIFIED:20181107T145940Z
UID:2032-1544004000-1544025600@ilchibrainyoga-yagoto.com
SUMMARY:お腹周りが気になる方のヨガ
DESCRIPTION:内容：気になるポッコリを腸活性化ﾄﾚｰﾆﾝｸﾞでｽｯｷﾘ！ \n期待できる効果：デトックス、体温アップ、リラックス、呼吸が深くなるなど \n時間：１０：００～１２：００、１４：００～１６：００ \nトレーナー：伊藤知絵 \nその他：動きやすい服装（冬季は長袖・長ズボンが良いと思われます）、フェイスタオルをお持ちください。
URL:https://ilchibrainyoga-yagoto.com/event/%e3%81%8a%e8%85%b9%e5%91%a8%e3%82%8a%e3%81%8c%e6%b0%97%e3%81%ab%e3%81%aa%e3%82%8b%e6%96%b9%e3%81%ae%e3%83%a8%e3%82%ac/
LOCATION:イルチブレインヨガ 八事スタジオ\, 愛知県名古屋市昭和区山手通3-10 グランウェスト八事 2階\, 466-0815\, 日本
CATEGORIES:昭和区、八事、ヨガ、呼吸、瞑想、腸、脳、腸内環境改善、冷え改善、便秘解消・美肌・代謝UP・ダイエット
ORGANIZER;CN="%E3%82%A4%E3%83%AB%E3%83%81%E3%83%96%E3%83%AC%E3%82%A4%E3%83%B3%E3%83%A8%E3%82%AC%E5%85%AB%E4%BA%8B%E3%82%B9%E3%82%BF%E3%82%B8%E3%82%AA":MAILTO:ibyoga.yagoto@gmail.com
END:VEVENT
BEGIN:VEVENT
DTSTART;TZID=Asia/Tokyo:20181124T140000
DTEND;TZID=Asia/Tokyo:20181124T160000
DTSTAMP:20260420T153319
CREATED:20181107T144453Z
LAST-MODIFIED:20181107T144453Z
UID:2028-1543068000-1543075200@ilchibrainyoga-yagoto.com
SUMMARY:ヨガで正しい呼吸体験（●＾o＾●）
DESCRIPTION:内容：私たちが良く知っている呼吸は、酸素を吸いこんで、二酸化炭素を吐き出す過程をいいます。 \n主に肺から行われる呼吸は生命維持の為に特に意識をしなくても自然に行われます。 \nその呼吸が浅かったり、細かったり。 \n呼吸は生命力です。呼吸の質が変わると体質まで変化していきます。 \nご自分の呼吸をチェックしてみませんか？ \n期待できる効果：呼吸が深くなる、ダイエット、冷え改善、お通じ改善、リラックス効果など（＊続けることで効果があります） \nトレーナー：伊藤知絵 \nその他：動きやすい服装、フェイスタオルをお持ちください。 \n 
URL:https://ilchibrainyoga-yagoto.com/event/%e3%83%a8%e3%82%ac%e3%81%a7%e6%ad%a3%e3%81%97%e3%81%84%e5%91%bc%e5%90%b8%e4%bd%93%e9%a8%93%ef%bc%88%e2%97%8f%ef%bc%beo%ef%bc%be%e2%97%8f%ef%bc%89-4/
LOCATION:イルチブレインヨガ 八事スタジオ\, 愛知県名古屋市昭和区山手通3-10 グランウェスト八事 2階\, 466-0815\, 日本
CATEGORIES:昭和区、八事、ヨガ、呼吸、瞑想、腸、脳、腸内環境改善、冷え改善、便秘解消・美肌・代謝UP・ダイエット
ORGANIZER;CN="%E3%82%A4%E3%83%AB%E3%83%81%E3%83%96%E3%83%AC%E3%82%A4%E3%83%B3%E3%83%A8%E3%82%AC%E5%85%AB%E4%BA%8B%E3%82%B9%E3%82%BF%E3%82%B8%E3%82%AA":MAILTO:ibyoga.yagoto@gmail.com
END:VEVENT
BEGIN:VEVENT
DTSTART;TZID=Asia/Tokyo:20181117T140000
DTEND;TZID=Asia/Tokyo:20181117T160000
DTSTAMP:20260420T153319
CREATED:20181107T143910Z
LAST-MODIFIED:20181107T143910Z
UID:2025-1542463200-1542470400@ilchibrainyoga-yagoto.com
SUMMARY:ヨガで正しい呼吸体験（●＾o＾●）
DESCRIPTION:内容：私たちが良く知っている呼吸は、酸素を吸いこんで、二酸化炭素を吐き出す過程をいいます。 \n主に肺から行われる呼吸は生命維持の為に特に意識をしなくても自然に行われます。 \nその呼吸が浅かったり、細かったり。 \n呼吸は生命力です。呼吸の質が変わると体質まで変化していきます。 \nご自分の呼吸をチェックしてみませんか？ \n期待できる効果：呼吸が深くなる、ダイエット、冷え改善、お通じ改善、リラックス効果など（＊続けることで効果があります） \nトレーナー：伊藤知絵 \nその他：動きやすい服装、フェイスタオルをお持ちください。 \n 
URL:https://ilchibrainyoga-yagoto.com/event/%e3%83%a8%e3%82%ac%e3%81%a7%e6%ad%a3%e3%81%97%e3%81%84%e5%91%bc%e5%90%b8%e4%bd%93%e9%a8%93%ef%bc%88%e2%97%8f%ef%bc%beo%ef%bc%be%e2%97%8f%ef%bc%89-3/
LOCATION:イルチブレインヨガ 八事スタジオ\, 愛知県名古屋市昭和区山手通3-10 グランウェスト八事 2階\, 466-0815\, 日本
CATEGORIES:昭和区、八事、ヨガ、呼吸、瞑想、腸、脳、腸内環境改善、冷え改善、便秘解消・美肌・代謝UP・ダイエット
ORGANIZER;CN="%E3%82%A4%E3%83%AB%E3%83%81%E3%83%96%E3%83%AC%E3%82%A4%E3%83%B3%E3%83%A8%E3%82%AC%E5%85%AB%E4%BA%8B%E3%82%B9%E3%82%BF%E3%82%B8%E3%82%AA":MAILTO:ibyoga.yagoto@gmail.com
END:VEVENT
BEGIN:VEVENT
DTSTART;TZID=Asia/Tokyo:20181110T140000
DTEND;TZID=Asia/Tokyo:20181110T160000
DTSTAMP:20260420T153319
CREATED:20181107T143206Z
LAST-MODIFIED:20181107T143206Z
UID:2022-1541858400-1541865600@ilchibrainyoga-yagoto.com
SUMMARY:ヨガで正しい呼吸体験（●＾o＾●）
DESCRIPTION:内容：私たちが良く知っている呼吸は、酸素を吸いこんで、二酸化炭素を吐き出す過程をいいます。 \n主に肺から行われる呼吸は生命維持の為に特に意識をしなくても自然に行われます。 \nその呼吸が浅かったり、細かったり。 \n呼吸は生命力です。呼吸の質が変わると体質まで変化していきます。 \nご自分の呼吸をチェックしてみませんか？ \n期待できる効果：呼吸が深くなる、ダイエット、冷え改善、お通じ改善、リラックス効果など（＊続けることで効果があります） \nトレーナー：伊藤知絵 \nその他：動きやすい服装、フェイスタオルをお持ちください。 \n 
URL:https://ilchibrainyoga-yagoto.com/event/%e3%83%a8%e3%82%ac%e3%81%a7%e6%ad%a3%e3%81%97%e3%81%84%e5%91%bc%e5%90%b8%e4%bd%93%e9%a8%93%ef%bc%88%e2%97%8f%ef%bc%beo%ef%bc%be%e2%97%8f%ef%bc%89-2/
LOCATION:イルチブレインヨガ 八事スタジオ\, 愛知県名古屋市昭和区山手通3-10 グランウェスト八事 2階\, 466-0815\, 日本
CATEGORIES:昭和区、八事、ヨガ、呼吸、瞑想、腸、脳、腸内環境改善、冷え改善、便秘解消・美肌・代謝UP・ダイエット
ORGANIZER;CN="%E3%82%A4%E3%83%AB%E3%83%81%E3%83%96%E3%83%AC%E3%82%A4%E3%83%B3%E3%83%A8%E3%82%AC%E5%85%AB%E4%BA%8B%E3%82%B9%E3%82%BF%E3%82%B8%E3%82%AA":MAILTO:ibyoga.yagoto@gmail.com
END:VEVENT
BEGIN:VEVENT
DTSTART;TZID=Asia/Tokyo:20180927T100000
DTEND;TZID=Asia/Tokyo:20180927T210000
DTSTAMP:20260420T153319
CREATED:20180906T131410Z
LAST-MODIFIED:20180906T131410Z
UID:1964-1538042400-1538082000@ilchibrainyoga-yagoto.com
SUMMARY:呼吸瞑想ヨガ体験会
DESCRIPTION:内容：簡単なストレッチなどをして体をほぐしてご自分の呼吸を感じ、深い呼吸が出来るようにしていきます。深い呼吸ができると集中力が増しリラックスしていきます。 \n期待できる効果：血液と気の循環がスムーズになる、集中力アップ、様々な疾患の予防、便秘や冷えといった不調を整える。 \n自律神経のバランスを整える。 \n対象者：老若男女どなたでもＯＫ！ \nトレーナー：伊藤知絵 \nその他：動きやすい服装をお持ちください。（更衣室あります）
URL:https://ilchibrainyoga-yagoto.com/event/%e5%91%bc%e5%90%b8%e7%9e%91%e6%83%b3%e3%83%a8%e3%82%ac%e4%bd%93%e9%a8%93%e4%bc%9a-3/
LOCATION:イルチブレインヨガ 八事スタジオ\, 愛知県名古屋市昭和区山手通3-10 グランウェスト八事 2階\, 466-0815\, 日本
CATEGORIES:昭和区、八事、ヨガ、呼吸、瞑想、腸、脳、腸内環境改善、冷え改善、便秘解消・美肌・代謝UP・ダイエット
ORGANIZER;CN="%E3%82%A4%E3%83%AB%E3%83%81%E3%83%96%E3%83%AC%E3%82%A4%E3%83%B3%E3%83%A8%E3%82%AC%E5%85%AB%E4%BA%8B%E3%82%B9%E3%82%BF%E3%82%B8%E3%82%AA":MAILTO:ibyoga.yagoto@gmail.com
END:VEVENT
BEGIN:VEVENT
DTSTART;TZID=Asia/Tokyo:20180921T140000
DTEND;TZID=Asia/Tokyo:20180921T160000
DTSTAMP:20260420T153319
CREATED:20180817T144712Z
LAST-MODIFIED:20180817T144712Z
UID:1924-1537538400-1537545600@ilchibrainyoga-yagoto.com
SUMMARY:へそから腸～健康ヨガ体験会
DESCRIPTION:内容：役目が終わったと思われがちな「へそ」の偉大な役目と、心身に与える偉大な効果を実践と共に勉強していきます。 \n期待できる効果：お通じの改善、体温・気力アップ、体力の回復、心身のリラックス \n対象者：お通じでお悩みの方、体のだるさが抜けない方、体力をつけたい方、心身ともにリラックスしたい方 \n開催日　　9月21日 \n時間　　　14：00～16：00 \nトレーナー　伊藤知絵 \nその他　　動きやすい服装、タオルをお持ちください。
URL:https://ilchibrainyoga-yagoto.com/event/%e3%81%b8%e3%81%9d%e3%81%8b%e3%82%89%e8%85%b8%ef%bd%9e%e5%81%a5%e5%ba%b7%e3%83%a8%e3%82%ac%e4%bd%93%e9%a8%93%e4%bc%9a-2/
LOCATION:イルチブレインヨガ 八事スタジオ\, 愛知県名古屋市昭和区山手通3-10 グランウェスト八事 2階\, 466-0815\, 日本
CATEGORIES:昭和区、八事、ヨガ、呼吸、瞑想、腸、脳、腸内環境改善、冷え改善、便秘解消・美肌・代謝UP・ダイエット
ORGANIZER;CN="%E3%82%A4%E3%83%AB%E3%83%81%E3%83%96%E3%83%AC%E3%82%A4%E3%83%B3%E3%83%A8%E3%82%AC%E5%85%AB%E4%BA%8B%E3%82%B9%E3%82%BF%E3%82%B8%E3%82%AA":MAILTO:ibyoga.yagoto@gmail.com
END:VEVENT
BEGIN:VEVENT
DTSTART;TZID=Asia/Tokyo:20180918T100000
DTEND;TZID=Asia/Tokyo:20180918T210000
DTSTAMP:20260420T153319
CREATED:20180906T131152Z
LAST-MODIFIED:20180906T131152Z
UID:1962-1537264800-1537304400@ilchibrainyoga-yagoto.com
SUMMARY:呼吸瞑想ヨガ体験会
DESCRIPTION:内容：簡単なストレッチなどをして体をほぐしてご自分の呼吸を感じ、深い呼吸が出来るようにしていきます。深い呼吸ができると集中力が増しリラックスしていきます。 \n期待できる効果：血液と気の循環がスムーズになる、集中力アップ、様々な疾患の予防、便秘や冷えといった不調を整える。 \n自律神経のバランスを整える。 \n対象者：老若男女どなたでもＯＫ！ \nトレーナー：伊藤知絵 \nその他：動きやすい服装をお持ちください。（更衣室あります）
URL:https://ilchibrainyoga-yagoto.com/event/%e5%91%bc%e5%90%b8%e7%9e%91%e6%83%b3%e3%83%a8%e3%82%ac%e4%bd%93%e9%a8%93%e4%bc%9a-2/
LOCATION:イルチブレインヨガ 八事スタジオ\, 愛知県名古屋市昭和区山手通3-10 グランウェスト八事 2階\, 466-0815\, 日本
CATEGORIES:昭和区、八事、ヨガ、呼吸、瞑想、腸、脳、腸内環境改善、冷え改善、便秘解消・美肌・代謝UP・ダイエット
ORGANIZER;CN="%E3%82%A4%E3%83%AB%E3%83%81%E3%83%96%E3%83%AC%E3%82%A4%E3%83%B3%E3%83%A8%E3%82%AC%E5%85%AB%E4%BA%8B%E3%82%B9%E3%82%BF%E3%82%B8%E3%82%AA":MAILTO:ibyoga.yagoto@gmail.com
END:VEVENT
BEGIN:VEVENT
DTSTART;TZID=Asia/Tokyo:20180805T103000
DTEND;TZID=Asia/Tokyo:20180805T123000
DTSTAMP:20260420T153319
CREATED:20180719T110933Z
LAST-MODIFIED:20180719T110933Z
UID:1846-1533465000-1533472200@ilchibrainyoga-yagoto.com
SUMMARY:腸活性化ＹＯＧＡで夏に負けない体力をつけよう（●＾o＾●）
DESCRIPTION:夏にありがちな冷房や冷たい飲み物による体の冷え😖放っておくと慢性的になり自分の体が冷えている事にも気づきにくくなります。体温は生命力です。体温を上げる⤴⤴には腸を活性化するエクササイズ🤸🤸‍♂️・呼吸・瞑想🧘‍♂️🧘‍♀️がおすすめです。便秘💩にお悩みの方、ダイエット🍰したい方、美肌になりたい方にも♪ \n期待できる効果：腸内環境改善、冷え改善、便秘解消・美肌・代謝UP・ダイエットなど \n時間：平日10:30～、19:30〜 \n土・日10：30～ \n＊お昼の時間帯での体験がご希望の方はご相談下さい。 \n参加費：1\,500円（各クラス２名様まで） \nトレーナー：伊藤　知絵 \nその他：動きやすい服装、フェイスタオル
URL:https://ilchibrainyoga-yagoto.com/event/%e8%85%b8%e6%b4%bb%e6%80%a7%e5%8c%96%ef%bd%99%ef%bd%8f%ef%bd%87%ef%bd%81%e3%81%a7%e5%a4%8f%e3%81%ab%e8%b2%a0%e3%81%91%e3%81%aa%e3%81%84%e4%bd%93%e5%8a%9b%e3%82%92%e3%81%a4%e3%81%91%e3%82%88%e3%81%86-8/
LOCATION:イルチブレインヨガ 八事スタジオ\, 愛知県名古屋市昭和区山手通3-10 グランウェスト八事 2階\, 466-0815\, 日本
CATEGORIES:昭和区、八事、ヨガ、呼吸、瞑想、腸、脳、腸内環境改善、冷え改善、便秘解消・美肌・代謝UP・ダイエット
ORGANIZER;CN="%E3%82%A4%E3%83%AB%E3%83%81%E3%83%96%E3%83%AC%E3%82%A4%E3%83%B3%E3%83%A8%E3%82%AC%E5%85%AB%E4%BA%8B%E3%82%B9%E3%82%BF%E3%82%B8%E3%82%AA":MAILTO:ibyoga.yagoto@gmail.com
END:VEVENT
BEGIN:VEVENT
DTSTART;TZID=Asia/Tokyo:20180802T103000
DTEND;TZID=Asia/Tokyo:20180802T213000
DTSTAMP:20260420T153319
CREATED:20180719T110700Z
LAST-MODIFIED:20180719T110700Z
UID:1844-1533205800-1533245400@ilchibrainyoga-yagoto.com
SUMMARY:腸活性化ＹＯＧＡで夏に負けない体力をつけよう（●＾o＾●）
DESCRIPTION:夏にありがちな冷房や冷たい飲み物による体の冷え😖放っておくと慢性的になり自分の体が冷えている事にも気づきにくくなります。体温は生命力です。体温を上げる⤴⤴には腸を活性化するエクササイズ🤸🤸‍♂️・呼吸・瞑想🧘‍♂️🧘‍♀️がおすすめです。便秘💩にお悩みの方、ダイエット🍰したい方、美肌になりたい方にも♪ \n期待できる効果：腸内環境改善、冷え改善、便秘解消・美肌・代謝UP・ダイエットなど \n時間：平日10:30～、19:30〜 \n土・日10：30～ \n＊お昼の時間帯での体験がご希望の方はご相談下さい。 \n参加費：1\,500円（各クラス２名様まで） \nトレーナー：伊藤　知絵 \nその他：動きやすい服装、フェイスタオル
URL:https://ilchibrainyoga-yagoto.com/event/%e8%85%b8%e6%b4%bb%e6%80%a7%e5%8c%96%ef%bd%99%ef%bd%8f%ef%bd%87%ef%bd%81%e3%81%a7%e5%a4%8f%e3%81%ab%e8%b2%a0%e3%81%91%e3%81%aa%e3%81%84%e4%bd%93%e5%8a%9b%e3%82%92%e3%81%a4%e3%81%91%e3%82%88%e3%81%86-7/
LOCATION:イルチブレインヨガ 八事スタジオ\, 愛知県名古屋市昭和区山手通3-10 グランウェスト八事 2階\, 466-0815\, 日本
CATEGORIES:昭和区、八事、ヨガ、呼吸、瞑想、腸、脳、腸内環境改善、冷え改善、便秘解消・美肌・代謝UP・ダイエット
ORGANIZER;CN="%E3%82%A4%E3%83%AB%E3%83%81%E3%83%96%E3%83%AC%E3%82%A4%E3%83%B3%E3%83%A8%E3%82%AC%E5%85%AB%E4%BA%8B%E3%82%B9%E3%82%BF%E3%82%B8%E3%82%AA":MAILTO:ibyoga.yagoto@gmail.com
END:VEVENT
BEGIN:VEVENT
DTSTART;TZID=Asia/Tokyo:20180731T103000
DTEND;TZID=Asia/Tokyo:20180731T213000
DTSTAMP:20260420T153319
CREATED:20180719T105236Z
LAST-MODIFIED:20180719T105236Z
UID:1841-1533033000-1533072600@ilchibrainyoga-yagoto.com
SUMMARY:腸活性化ＹＯＧＡで夏に負けない体力をつけよう（●＾o＾●）
DESCRIPTION:夏にありがちな冷房や冷たい飲み物による体の冷え😖放っておくと慢性的になり自分の体が冷えている事にも気づきにくくなります。体温は生命力です。体温を上げる⤴⤴には腸を活性化するエクササイズ🤸🤸‍♂️・呼吸・瞑想🧘‍♂️🧘‍♀️がおすすめです。便秘💩にお悩みの方、ダイエット🍰したい方、美肌になりたい方にも♪ \n期待できる効果：腸内環境改善、冷え改善、便秘解消・美肌・代謝UP・ダイエットなど \n時間：平日10:30～、19:30〜 \n土・日10：30～ \n＊お昼の時間帯での体験がご希望の方はご相談下さい。 \n参加費：1\,500円（各クラス２名様まで） \nトレーナー：伊藤　知絵 \nその他：動きやすい服装、フェイスタオル
URL:https://ilchibrainyoga-yagoto.com/event/%e8%85%b8%e6%b4%bb%e6%80%a7%e5%8c%96%ef%bd%99%ef%bd%8f%ef%bd%87%ef%bd%81%e3%81%a7%e5%a4%8f%e3%81%ab%e8%b2%a0%e3%81%91%e3%81%aa%e3%81%84%e4%bd%93%e5%8a%9b%e3%82%92%e3%81%a4%e3%81%91%e3%82%88%e3%81%86-6/
LOCATION:イルチブレインヨガ 八事スタジオ\, 愛知県名古屋市昭和区山手通3-10 グランウェスト八事 2階\, 466-0815\, 日本
CATEGORIES:昭和区、八事、ヨガ、呼吸、瞑想、腸、脳、腸内環境改善、冷え改善、便秘解消・美肌・代謝UP・ダイエット
ORGANIZER;CN="%E3%82%A4%E3%83%AB%E3%83%81%E3%83%96%E3%83%AC%E3%82%A4%E3%83%B3%E3%83%A8%E3%82%AC%E5%85%AB%E4%BA%8B%E3%82%B9%E3%82%BF%E3%82%B8%E3%82%AA":MAILTO:ibyoga.yagoto@gmail.com
END:VEVENT
BEGIN:VEVENT
DTSTART;TZID=Asia/Tokyo:20180728T103000
DTEND;TZID=Asia/Tokyo:20180728T123000
DTSTAMP:20260420T153319
CREATED:20180719T105043Z
LAST-MODIFIED:20180719T105043Z
UID:1839-1532773800-1532781000@ilchibrainyoga-yagoto.com
SUMMARY:腸活性化ＹＯＧＡで夏に負けない体力をつけよう（●＾o＾●）
DESCRIPTION:夏にありがちな冷房や冷たい飲み物による体の冷え😖放っておくと慢性的になり自分の体が冷えている事にも気づきにくくなります。体温は生命力です。体温を上げる⤴⤴には腸を活性化するエクササイズ🤸🤸‍♂️・呼吸・瞑想🧘‍♂️🧘‍♀️がおすすめです。便秘💩にお悩みの方、ダイエット🍰したい方、美肌になりたい方にも♪ \n期待できる効果：腸内環境改善、冷え改善、便秘解消・美肌・代謝UP・ダイエットなど \n時間：平日10:30～、19:30〜 \n土・日10：30～ \n＊お昼の時間帯での体験がご希望の方はご相談下さい。 \n参加費：1\,500円（各クラス２名様まで） \nトレーナー：伊藤　知絵 \nその他：動きやすい服装、フェイスタオル
URL:https://ilchibrainyoga-yagoto.com/event/%e8%85%b8%e6%b4%bb%e6%80%a7%e5%8c%96%ef%bd%99%ef%bd%8f%ef%bd%87%ef%bd%81%e3%81%a7%e5%a4%8f%e3%81%ab%e8%b2%a0%e3%81%91%e3%81%aa%e3%81%84%e4%bd%93%e5%8a%9b%e3%82%92%e3%81%a4%e3%81%91%e3%82%88%e3%81%86-5/
LOCATION:イルチブレインヨガ 八事スタジオ\, 愛知県名古屋市昭和区山手通3-10 グランウェスト八事 2階\, 466-0815\, 日本
CATEGORIES:昭和区、八事、ヨガ、呼吸、瞑想、腸、脳、腸内環境改善、冷え改善、便秘解消・美肌・代謝UP・ダイエット
ORGANIZER;CN="%E3%82%A4%E3%83%AB%E3%83%81%E3%83%96%E3%83%AC%E3%82%A4%E3%83%B3%E3%83%A8%E3%82%AC%E5%85%AB%E4%BA%8B%E3%82%B9%E3%82%BF%E3%82%B8%E3%82%AA":MAILTO:ibyoga.yagoto@gmail.com
END:VEVENT
BEGIN:VEVENT
DTSTART;TZID=Asia/Tokyo:20180727T103000
DTEND;TZID=Asia/Tokyo:20180727T213000
DTSTAMP:20260420T153319
CREATED:20180719T104658Z
LAST-MODIFIED:20180719T104658Z
UID:1837-1532687400-1532727000@ilchibrainyoga-yagoto.com
SUMMARY:腸活性化ＹＯＧＡで夏に負けない体力をつけよう（●＾o＾●）
DESCRIPTION:夏にありがちな冷房や冷たい飲み物による体の冷え😣放っておくと慢性的になり自分の体が冷えている事にも気づきにくくなります。体温は生命力です。体温を上げる⤴⤴には腸を活性化するエクササイズ🤸🤸‍♂️・呼吸・瞑想🧘‍♂️🧘‍♀️がおすすめです。便秘💩にお悩みの方、ダイエット🍰したい方、美肌になりたい方にも♪ \n期待できる効果：腸内環境改善、冷え改善、便秘解消・美肌・代謝UP・ダイエットなど \n時間：平日10:30～、19:30〜 \n土・日10：30～ \n＊お昼の時間帯での体験がご希望の方はご相談下さい。 \n参加費：1\,500円（各クラス２名様まで） \nトレーナー：伊藤　知絵 \nその他：動きやすい服装、フェイスタオル
URL:https://ilchibrainyoga-yagoto.com/event/%e8%85%b8%e6%b4%bb%e6%80%a7%e5%8c%96%ef%bd%99%ef%bd%8f%ef%bd%87%ef%bd%81%e3%81%a7%e5%a4%8f%e3%81%ab%e8%b2%a0%e3%81%91%e3%81%aa%e3%81%84%e4%bd%93%e5%8a%9b%e3%82%92%e3%81%a4%e3%81%91%e3%82%88%e3%81%86-4/
LOCATION:イルチブレインヨガ 八事スタジオ\, 愛知県名古屋市昭和区山手通3-10 グランウェスト八事 2階\, 466-0815\, 日本
CATEGORIES:昭和区、八事、ヨガ、呼吸、瞑想、腸、脳、腸内環境改善、冷え改善、便秘解消・美肌・代謝UP・ダイエット
ORGANIZER;CN="%E3%82%A4%E3%83%AB%E3%83%81%E3%83%96%E3%83%AC%E3%82%A4%E3%83%B3%E3%83%A8%E3%82%AC%E5%85%AB%E4%BA%8B%E3%82%B9%E3%82%BF%E3%82%B8%E3%82%AA":MAILTO:ibyoga.yagoto@gmail.com
END:VEVENT
BEGIN:VEVENT
DTSTART;TZID=Asia/Tokyo:20180725T103000
DTEND;TZID=Asia/Tokyo:20180725T213000
DTSTAMP:20260420T153319
CREATED:20180719T104432Z
LAST-MODIFIED:20180722T070300Z
UID:1834-1532514600-1532554200@ilchibrainyoga-yagoto.com
SUMMARY:腸活性化ＹＯＧＡで夏に負けない体力をつけよう（●＾o＾●）
DESCRIPTION:夏にありがちな冷房や冷たい飲み物による体の冷え😣放っておくと慢性的になり自分の体が冷えている事にも気づきにくくなります。体温は生命力です。体温を上げる⤴⤴には腸を活性化するエクササイズ🤸🤸‍♂️・呼吸・瞑想🧘‍♂️🧘‍♀️がおすすめです。便秘💩にお悩みの方、ダイエット🍰したい方、美肌になりたい方にも♪ \n期待できる効果：腸内環境改善、冷え改善、便秘解消・美肌・代謝UP・ダイエットなど \n時間：平日10:30～、19:30〜 \n土・日10：30～ \n＊お昼の時間帯での体験がご希望の方はご相談下さい。 \n参加費：1\,500円（各クラス２名様まで） \nトレーナー：伊藤　知絵 \nその他：動きやすい服装、フェイスタオル \n  \n[event-button]
URL:https://ilchibrainyoga-yagoto.com/event/%e8%85%b8%e6%b4%bb%e6%80%a7%e5%8c%96%ef%bd%99%ef%bd%8f%ef%bd%87%ef%bd%81%e3%81%a7%e5%a4%8f%e3%81%ab%e8%b2%a0%e3%81%91%e3%81%aa%e3%81%84%e4%bd%93%e5%8a%9b%e3%82%92%e3%81%a4%e3%81%91%e3%82%88%e3%81%86-3/
LOCATION:イルチブレインヨガ 八事スタジオ\, 愛知県名古屋市昭和区山手通3-10 グランウェスト八事 2階\, 466-0815\, 日本
CATEGORIES:昭和区、八事、ヨガ、呼吸、瞑想、腸、脳、腸内環境改善、冷え改善、便秘解消・美肌・代謝UP・ダイエット
END:VEVENT
BEGIN:VEVENT
DTSTART;TZID=Asia/Tokyo:20180722T103000
DTEND;TZID=Asia/Tokyo:20180722T213000
DTSTAMP:20260420T153319
CREATED:20180719T074617Z
LAST-MODIFIED:20180722T055859Z
UID:1826-1532255400-1532295000@ilchibrainyoga-yagoto.com
SUMMARY:腸活性化ＹＯＧＡで夏に負けない体力をつけよう（●＾o＾●）
DESCRIPTION:夏にありがちな冷房や冷たい飲み物による体の冷え😣放っておくと慢性的になり自分の体が冷えている事にも気づきにくくなります。体温は生命力です。体温を上げる⤴⤴には腸を活性化するエクササイズ🤸🤸‍♂️・呼吸・瞑想🧘‍♂️🧘‍♀️がおすすめです。便秘💩にお悩みの方、ダイエット🍰したい方、美肌になりたい方にも♪ \n期待できる効果：腸内環境改善、冷え改善、便秘解消・美肌・代謝UP・ダイエットなど \n時間：平日10:30～、19:30〜 \n土・日10：30～ \n＊お昼の時間帯での体験がご希望の方はご相談下さい。 \n参加費：1\,500円（各クラス２名様まで） \nトレーナー：伊藤　知絵 \nその他：動きやすい服装、フェイスタオル \n  \n[event-button] \n  \n 
URL:https://ilchibrainyoga-yagoto.com/event/%e8%85%b8%e6%b4%bb%e6%80%a7%e5%8c%96%ef%bd%99%ef%bd%8f%ef%bd%87%ef%bd%81%e3%81%a7%e5%a4%8f%e3%81%ab%e8%b2%a0%e3%81%91%e3%81%aa%e3%81%84%e4%bd%93%e5%8a%9b%e3%82%92%e3%81%a4%e3%81%91%e3%82%88%e3%81%86-2/
LOCATION:イルチブレインヨガ 八事スタジオ\, 愛知県名古屋市昭和区山手通3-10 グランウェスト八事 2階\, 466-0815\, 日本
CATEGORIES:昭和区、八事、ヨガ、呼吸、瞑想、腸、脳、腸内環境改善、冷え改善、便秘解消・美肌・代謝UP・ダイエット
END:VEVENT
END:VCALENDAR