BEGIN:VCALENDAR
VERSION:2.0
PRODID:-//イルチブレインヨガ八事スタジオ - ECPv6.15.20//NONSGML v1.0//EN
CALSCALE:GREGORIAN
METHOD:PUBLISH
X-ORIGINAL-URL:https://ilchibrainyoga-yagoto.com
X-WR-CALDESC:イルチブレインヨガ八事スタジオ のイベント
REFRESH-INTERVAL;VALUE=DURATION:PT1H
X-Robots-Tag:noindex
X-PUBLISHED-TTL:PT1H
BEGIN:VTIMEZONE
TZID:Asia/Tokyo
BEGIN:STANDARD
TZOFFSETFROM:+0900
TZOFFSETTO:+0900
TZNAME:JST
DTSTART:20180101T000000
END:STANDARD
END:VTIMEZONE
BEGIN:VEVENT
DTSTART;TZID=Asia/Tokyo:20190804T100000
DTEND;TZID=Asia/Tokyo:20190804T210000
DTSTAMP:20260426T040103
CREATED:20190615T145423Z
LAST-MODIFIED:20190730T061341Z
UID:2333-1564912800-1564952400@ilchibrainyoga-yagoto.com
SUMMARY:４日はヨガの日体験無料
DESCRIPTION:★脳と腸を活性化させるブレイン体操、呼吸・瞑想と言ったトレーニング体験が４日ヨガの日限定無料体験できます★\n期待できる効果　　体温・免疫力アップ、体の歪みのバランス矯正、心も体もリラックス、デトックス\n対象者　　　老若男女どなたでもご参加いただけます。\n開催日　　　８月４日（日）、１４日（水）、２４日（土）＊（各クラス２名様限定）\n時間　　　　１０：００～１２：００、１４：００～１６：００、１９：００～２１：００\n会場名　　　イルチブレインヨガ八事スタジオ\n会場住所　　愛知県名古屋市昭和区山手通３－１０グランウエスト山手２F\n参加費　　　無料\n問い合わせ・電話　　０５２－８３６－６５６７　＊要予約\nトレーナー　　伊藤知絵\nその他　　動きやすい服装、フェイスタオルをお持ちください。 \n[event-button]
URL:https://ilchibrainyoga-yagoto.com/event/%ef%bc%94%e6%97%a5%e3%81%af%e3%83%a8%e3%82%ac%e3%81%ae%e6%97%a5%e4%bd%93%e9%a8%93%e7%84%a1%e6%96%99-5/
LOCATION:イルチブレインヨガ 八事スタジオ\, 愛知県名古屋市昭和区山手通3-10 グランウェスト八事 2階\, 466-0815\, 日本
CATEGORIES:名古屋ヨガ、昭和区ヨガ、天白区ヨガ、千種区ヨガ、瑞穂区ヨガ、八事ヨガ、健康、体操、呼吸、瞑想、脳、腸、東洋医学、脳科学
ORGANIZER;CN="%E3%82%A4%E3%83%AB%E3%83%81%E3%83%96%E3%83%AC%E3%82%A4%E3%83%B3%E3%83%A8%E3%82%AC%E5%85%AB%E4%BA%8B%E3%82%B9%E3%82%BF%E3%82%B8%E3%82%AA":MAILTO:ibyoga.yagoto@gmail.com
END:VEVENT
END:VCALENDAR